BEGIN:VCALENDAR
VERSION:2.0
PRODID:-//Gem and Mineral Society of the Palm Beaches, Inc. - ECPv6.15.16.1//NONSGML v1.0//EN
CALSCALE:GREGORIAN
METHOD:PUBLISH
X-ORIGINAL-URL:https://gmspb.org
X-WR-CALDESC:Events for Gem and Mineral Society of the Palm Beaches, Inc.
REFRESH-INTERVAL;VALUE=DURATION:PT1H
X-Robots-Tag:noindex
X-PUBLISHED-TTL:PT1H
BEGIN:VTIMEZONE
TZID:America/New_York
BEGIN:DAYLIGHT
TZOFFSETFROM:-0500
TZOFFSETTO:-0400
TZNAME:EDT
DTSTART:20240310T070000
END:DAYLIGHT
BEGIN:STANDARD
TZOFFSETFROM:-0400
TZOFFSETTO:-0500
TZNAME:EST
DTSTART:20241103T060000
END:STANDARD
BEGIN:DAYLIGHT
TZOFFSETFROM:-0500
TZOFFSETTO:-0400
TZNAME:EDT
DTSTART:20250309T070000
END:DAYLIGHT
BEGIN:STANDARD
TZOFFSETFROM:-0400
TZOFFSETTO:-0500
TZNAME:EST
DTSTART:20251102T060000
END:STANDARD
BEGIN:DAYLIGHT
TZOFFSETFROM:-0500
TZOFFSETTO:-0400
TZNAME:EDT
DTSTART:20260308T070000
END:DAYLIGHT
BEGIN:STANDARD
TZOFFSETFROM:-0400
TZOFFSETTO:-0500
TZNAME:EST
DTSTART:20261101T060000
END:STANDARD
END:VTIMEZONE
BEGIN:VEVENT
DTSTART;TZID=America/New_York:20250702T190000
DTEND;TZID=America/New_York:20250702T203000
DTSTAMP:20260425T120657
CREATED:20250605T043742Z
LAST-MODIFIED:20250729T150540Z
UID:6845-1751482800-1751488200@gmspb.org
SUMMARY:GMSPB Monthly Board Meeting
DESCRIPTION:Contact Arlene Lazzaro for link to join the meeting… \npresident@gmspb.org \n(516) 810-3495
URL:https://gmspb.org/event/gmspb-monthly-board-meeting-4/
LOCATION:ZOOM
END:VEVENT
BEGIN:VEVENT
DTSTART;TZID=America/New_York:20250703T130000
DTEND;TZID=America/New_York:20250703T190000
DTSTAMP:20260425T120657
CREATED:20250605T043324Z
LAST-MODIFIED:20250605T043324Z
UID:6839-1751547600-1751569200@gmspb.org
SUMMARY:Open Shop - General Work - Sarah*
DESCRIPTION:
URL:https://gmspb.org/event/open-shop-general-work-sarah-15/
LOCATION:Shop\, 3281 Lake Worth Road\, Lake Worth\, FL\, 33461\, United States
END:VEVENT
BEGIN:VEVENT
DTSTART;TZID=America/New_York:20250704T180000
DTEND;TZID=America/New_York:20250704T210000
DTSTAMP:20260425T120657
CREATED:20250605T043422Z
LAST-MODIFIED:20250605T043422Z
UID:6841-1751652000-1751662800@gmspb.org
SUMMARY:Open Shop - General Work - Clara*
DESCRIPTION:
URL:https://gmspb.org/event/open-shop-general-work-clara-29/
LOCATION:Shop\, 3281 Lake Worth Road\, Lake Worth\, FL\, 33461\, United States
END:VEVENT
BEGIN:VEVENT
DTSTART;TZID=America/New_York:20250717T190000
DTEND;TZID=America/New_York:20250717T203000
DTSTAMP:20260425T120657
CREATED:20250605T043939Z
LAST-MODIFIED:20250630T035004Z
UID:6847-1752778800-1752784200@gmspb.org
SUMMARY:July 17th Membership Meeting
DESCRIPTION:Megalodon Miocene Marine Macropredator\n \nFor nearly 20 million years the oceans of the Cenozoic\nwere dominated by an apex predator; Megalodon.\nThe largest shark of all time. What led to the rise of this\nmega toothed shark\, how did it feed\, and ultimately\nwhy after a 20-million-year reign did it fall into extinction.\n\nPresented by Brandon Truillo\nAssistant Collections Manager \nof Vertebrate Paleontology\nPalm Beach Museum of Natural History \n**********\nWHERE: inside the STEM Bldg\n4800 Dreher Trail N\n(across from the museum)\n\nROCKHOUND CHALLENGE\nfor JULY is your best GEODE\n \nThe prize for the winner\nwill be a Geode Pair and a Ruby!!!\n___________\n\n\n\nPlease BRING a SNACK to SHARE\nDOOR PRIZES SILENT AUCTION\nSHOW ‘N TELL\n\n____________\nMEMBERSHIP RENEWALS* are Due Now\nSingle – $30.00 Family – $50.00 ——————-\n* If you joined in October – December\, 2024\, the renewal notice does not affect you. Your membership is good thru December\, 2025\n____________
URL:https://gmspb.org/event/july-17th-membership-meeting/
LOCATION:Cox-Multi-Purpose Center\, 4800 Dreher Trail North\, West Palm Beach\, FL\, 33405\, United States
END:VEVENT
BEGIN:VEVENT
DTSTART;TZID=America/New_York:20250731T130000
DTEND;TZID=America/New_York:20250731T190000
DTSTAMP:20260425T120657
CREATED:20250729T142945Z
LAST-MODIFIED:20250729T142945Z
UID:6880-1753966800-1753988400@gmspb.org
SUMMARY:Open Shop - General Work - Sarah*
DESCRIPTION:Arlene Lazzaro 516-810-3495 \nSamantha Lazzaro  631-764-6556 \nClara Pflueger 201-566-6492 \nSarah Mayo 307-248-1687 \n3281 Lake Worth Road\, Suite B\, \nLake Worth\, FL 33461 \n  \n*Always Call the shop steward before going to the shop. Open shop sessions may be cancelled or changed due to scheduling conflicts. \n \nUse of the Work Shop and Shop Classes require Club Membership.\nIf not a member\, you may join before the Classes begin.\nJOIN NOW\n 
URL:https://gmspb.org/event/open-shop-general-work-sarah-16/
LOCATION:Shop\, 3281 Lake Worth Road\, Lake Worth\, FL\, 33461\, United States
END:VEVENT
BEGIN:VEVENT
DTSTART;TZID=America/New_York:20250801T180000
DTEND;TZID=America/New_York:20250801T210000
DTSTAMP:20260425T120657
CREATED:20250729T143103Z
LAST-MODIFIED:20250729T143103Z
UID:6882-1754071200-1754082000@gmspb.org
SUMMARY:Open Shop - General Work - Clara*
DESCRIPTION:Arlene Lazzaro 516-810-3495 \nSamantha Lazzaro  631-764-6556 \nClara Pflueger 201-566-6492 \nSarah Mayo 307-248-1687 \n3281 Lake Worth Road\, Suite B\, \nLake Worth\, FL 33461 \n  \n*Always Call the shop steward before going to the shop. Open shop sessions may be cancelled or changed due to scheduling conflicts. \n \nUse of the Work Shop and Shop Classes require Club Membership.\nIf not a member\, you may join before the Classes begin.\nJOIN NOW\n 
URL:https://gmspb.org/event/open-shop-general-work-clara-30/
LOCATION:Shop\, 3281 Lake Worth Road\, Lake Worth\, FL\, 33461\, United States
END:VEVENT
BEGIN:VEVENT
DTSTART;TZID=America/New_York:20250804T103000
DTEND;TZID=America/New_York:20250804T173000
DTSTAMP:20260425T120657
CREATED:20250729T143251Z
LAST-MODIFIED:20250729T143251Z
UID:6884-1754303400-1754328600@gmspb.org
SUMMARY:Open Shop - General Work - Samantha*
DESCRIPTION:Arlene Lazzaro 516-810-3495 \nSamantha Lazzaro  631-764-6556 \nClara Pflueger 201-566-6492 \nSarah Mayo 307-248-1687 \n3281 Lake Worth Road\, Suite B\, \nLake Worth\, FL 33461 \n  \n*Always Call the shop steward before going to the shop. Open shop sessions may be cancelled or changed due to scheduling conflicts. \n \nUse of the Work Shop and Shop Classes require Club Membership.\nIf not a member\, you may join before the Classes begin.\nJOIN NOW\n 
URL:https://gmspb.org/event/open-shop-general-work-samantha-14/
LOCATION:Shop\, 3281 Lake Worth Road\, Lake Worth\, FL\, 33461\, United States
ORGANIZER;CN="Samantha Lazzaro":MAILTO:crystalgrace2006@yahoo.com
END:VEVENT
BEGIN:VEVENT
DTSTART;TZID=America/New_York:20250804T180000
DTEND;TZID=America/New_York:20250804T210000
DTSTAMP:20260425T120657
CREATED:20250729T143412Z
LAST-MODIFIED:20250729T143412Z
UID:6886-1754330400-1754341200@gmspb.org
SUMMARY:Open Shop - General Work - Clara*
DESCRIPTION:Arlene Lazzaro 516-810-3495 \nSamantha Lazzaro  631-764-6556 \nClara Pflueger 201-566-6492 \nSarah Mayo 307-248-1687 \n3281 Lake Worth Road\, Suite B\, \nLake Worth\, FL 33461 \n  \n*Always Call the shop steward before going to the shop. Open shop sessions may be cancelled or changed due to scheduling conflicts. \n \nUse of the Work Shop and Shop Classes require Club Membership.\nIf not a member\, you may join before the Classes begin.\nJOIN NOW\n 
URL:https://gmspb.org/event/open-shop-general-work-clara-31/
LOCATION:Shop\, 3281 Lake Worth Road\, Lake Worth\, FL\, 33461\, United States
END:VEVENT
BEGIN:VEVENT
DTSTART;TZID=America/New_York:20250806T190000
DTEND;TZID=America/New_York:20250806T203000
DTSTAMP:20260425T120657
CREATED:20250729T150637Z
LAST-MODIFIED:20250729T150637Z
UID:6903-1754506800-1754512200@gmspb.org
SUMMARY:GMSPB Monthly Board Meeting
DESCRIPTION:Contact Arlene Lazzaro for link to join the meeting… \npresident@gmspb.org \n(516) 810-3495
URL:https://gmspb.org/event/gmspb-monthly-board-meeting-5/
LOCATION:ZOOM
END:VEVENT
BEGIN:VEVENT
DTSTART;TZID=America/New_York:20250807T130000
DTEND;TZID=America/New_York:20250807T190000
DTSTAMP:20260425T120657
CREATED:20250729T145751Z
LAST-MODIFIED:20250729T145751Z
UID:6891-1754571600-1754593200@gmspb.org
SUMMARY:Open Shop - General Work - Sarah*
DESCRIPTION:Arlene Lazzaro 516-810-3495 \nSamantha Lazzaro  631-764-6556 \nClara Pflueger 201-566-6492 \nSarah Mayo 307-248-1687 \n3281 Lake Worth Road\, Suite B\, \nLake Worth\, FL 33461 \n  \n*Always Call the shop steward before going to the shop. Open shop sessions may be cancelled or changed due to scheduling conflicts. \n \nUse of the Work Shop and Shop Classes require Club Membership.\nIf not a member\, you may join before the Classes begin.\nJOIN NOW\n 
URL:https://gmspb.org/event/open-shop-general-work-sarah-17/
LOCATION:Shop\, 3281 Lake Worth Road\, Lake Worth\, FL\, 33461\, United States
END:VEVENT
BEGIN:VEVENT
DTSTART;TZID=America/New_York:20250808T180000
DTEND;TZID=America/New_York:20250808T210000
DTSTAMP:20260425T120657
CREATED:20250729T150829Z
LAST-MODIFIED:20250729T150829Z
UID:6905-1754676000-1754686800@gmspb.org
SUMMARY:Open Shop - General Work - Clara*
DESCRIPTION:Arlene Lazzaro 516-810-3495 \nSamantha Lazzaro  631-764-6556 \nClara Pflueger 201-566-6492 \nSarah Mayo 307-248-1687 \n3281 Lake Worth Road\, Suite B\, \nLake Worth\, FL 33461 \n  \n*Always Call the shop steward before going to the shop. Open shop sessions may be cancelled or changed due to scheduling conflicts. \n \nUse of the Work Shop and Shop Classes require Club Membership.\nIf not a member\, you may join before the Classes begin.\nJOIN NOW\n 
URL:https://gmspb.org/event/open-shop-general-work-clara-32/
LOCATION:Shop\, 3281 Lake Worth Road\, Lake Worth\, FL\, 33461\, United States
END:VEVENT
BEGIN:VEVENT
DTSTART;TZID=America/New_York:20250811T103000
DTEND;TZID=America/New_York:20250811T173000
DTSTAMP:20260425T120657
CREATED:20250729T151738Z
LAST-MODIFIED:20250729T151738Z
UID:6923-1754908200-1754933400@gmspb.org
SUMMARY:Open Shop - General Work - Samantha*
DESCRIPTION:Arlene Lazzaro 516-810-3495 \nSamantha Lazzaro  631-764-6556 \nClara Pflueger 201-566-6492 \nSarah Mayo 307-248-1687 \n3281 Lake Worth Road\, Suite B\, \nLake Worth\, FL 33461 \n  \n*Always Call the shop steward before going to the shop. Open shop sessions may be cancelled or changed due to scheduling conflicts. \n \nUse of the Work Shop and Shop Classes require Club Membership.\nIf not a member\, you may join before the Classes begin.\nJOIN NOW\n 
URL:https://gmspb.org/event/open-shop-general-work-samantha-15/
LOCATION:Shop\, 3281 Lake Worth Road\, Lake Worth\, FL\, 33461\, United States
END:VEVENT
BEGIN:VEVENT
DTSTART;TZID=America/New_York:20250811T180000
DTEND;TZID=America/New_York:20250811T210000
DTSTAMP:20260425T120657
CREATED:20250729T151324Z
LAST-MODIFIED:20250729T151324Z
UID:6915-1754935200-1754946000@gmspb.org
SUMMARY:Open Shop - General Work - Clara*
DESCRIPTION:Arlene Lazzaro 516-810-3495 \nSamantha Lazzaro  631-764-6556 \nClara Pflueger 201-566-6492 \nSarah Mayo 307-248-1687 \n3281 Lake Worth Road\, Suite B\, \nLake Worth\, FL 33461 \n  \n*Always Call the shop steward before going to the shop. Open shop sessions may be cancelled or changed due to scheduling conflicts. \n \nUse of the Work Shop and Shop Classes require Club Membership.\nIf not a member\, you may join before the Classes begin.\nJOIN NOW\n 
URL:https://gmspb.org/event/open-shop-general-work-clara-37/
LOCATION:Shop\, 3281 Lake Worth Road\, Lake Worth\, FL\, 33461\, United States
END:VEVENT
BEGIN:VEVENT
DTSTART;TZID=America/New_York:20250814T130000
DTEND;TZID=America/New_York:20250814T190000
DTSTAMP:20260425T120657
CREATED:20250729T145857Z
LAST-MODIFIED:20250729T145857Z
UID:6893-1755176400-1755198000@gmspb.org
SUMMARY:Open Shop - General Work - Sarah*
DESCRIPTION:Arlene Lazzaro 516-810-3495 \nSamantha Lazzaro  631-764-6556 \nClara Pflueger 201-566-6492 \nSarah Mayo 307-248-1687 \n3281 Lake Worth Road\, Suite B\, \nLake Worth\, FL 33461 \n  \n*Always Call the shop steward before going to the shop. Open shop sessions may be cancelled or changed due to scheduling conflicts. \n \nUse of the Work Shop and Shop Classes require Club Membership.\nIf not a member\, you may join before the Classes begin.\nJOIN NOW\n 
URL:https://gmspb.org/event/open-shop-general-work-sarah-18/
LOCATION:Shop\, 3281 Lake Worth Road\, Lake Worth\, FL\, 33461\, United States
END:VEVENT
BEGIN:VEVENT
DTSTART;TZID=America/New_York:20250815T180000
DTEND;TZID=America/New_York:20250815T210000
DTSTAMP:20260425T120657
CREATED:20250729T150925Z
LAST-MODIFIED:20250729T150925Z
UID:6907-1755280800-1755291600@gmspb.org
SUMMARY:Open Shop - General Work - Clara*
DESCRIPTION:Arlene Lazzaro 516-810-3495 \nSamantha Lazzaro  631-764-6556 \nClara Pflueger 201-566-6492 \nSarah Mayo 307-248-1687 \n3281 Lake Worth Road\, Suite B\, \nLake Worth\, FL 33461 \n  \n*Always Call the shop steward before going to the shop. Open shop sessions may be cancelled or changed due to scheduling conflicts. \n \nUse of the Work Shop and Shop Classes require Club Membership.\nIf not a member\, you may join before the Classes begin.\nJOIN NOW\n 
URL:https://gmspb.org/event/open-shop-general-work-clara-33/
LOCATION:Shop\, 3281 Lake Worth Road\, Lake Worth\, FL\, 33461\, United States
END:VEVENT
BEGIN:VEVENT
DTSTART;TZID=America/New_York:20250818T103000
DTEND;TZID=America/New_York:20250818T173000
DTSTAMP:20260425T120657
CREATED:20250729T151906Z
LAST-MODIFIED:20250729T151906Z
UID:6925-1755513000-1755538200@gmspb.org
SUMMARY:Open Shop - General Work - Samantha*
DESCRIPTION:Arlene Lazzaro 516-810-3495 \nSamantha Lazzaro  631-764-6556 \nClara Pflueger 201-566-6492 \nSarah Mayo 307-248-1687 \n3281 Lake Worth Road\, Suite B\, \nLake Worth\, FL 33461 \n  \n*Always Call the shop steward before going to the shop. Open shop sessions may be cancelled or changed due to scheduling conflicts. \n \nUse of the Work Shop and Shop Classes require Club Membership.\nIf not a member\, you may join before the Classes begin.\nJOIN NOW\n 
URL:https://gmspb.org/event/open-shop-general-work-samantha-16/
LOCATION:Shop\, 3281 Lake Worth Road\, Lake Worth\, FL\, 33461\, United States
ORGANIZER;CN="Samantha Lazzaro":MAILTO:crystalgrace2006@yahoo.com
END:VEVENT
BEGIN:VEVENT
DTSTART;TZID=America/New_York:20250818T180000
DTEND;TZID=America/New_York:20250818T210000
DTSTAMP:20260425T120657
CREATED:20250729T151425Z
LAST-MODIFIED:20250729T151425Z
UID:6917-1755540000-1755550800@gmspb.org
SUMMARY:Open Shop - General Work - Clara*
DESCRIPTION:Arlene Lazzaro 516-810-3495 \nSamantha Lazzaro  631-764-6556 \nClara Pflueger 201-566-6492 \nSarah Mayo 307-248-1687 \n3281 Lake Worth Road\, Suite B\, \nLake Worth\, FL 33461 \n  \n*Always Call the shop steward before going to the shop. Open shop sessions may be cancelled or changed due to scheduling conflicts. \n \nUse of the Work Shop and Shop Classes require Club Membership.\nIf not a member\, you may join before the Classes begin.\nJOIN NOW\n 
URL:https://gmspb.org/event/open-shop-general-work-clara-38/
LOCATION:Shop\, 3281 Lake Worth Road\, Lake Worth\, FL\, 33461\, United States
END:VEVENT
BEGIN:VEVENT
DTSTART;TZID=America/New_York:20250821T130000
DTEND;TZID=America/New_York:20250821T160000
DTSTAMP:20260425T120657
CREATED:20250729T150103Z
LAST-MODIFIED:20250729T150103Z
UID:6897-1755781200-1755792000@gmspb.org
SUMMARY:Open Shop - General Work - Sarah*
DESCRIPTION:Arlene Lazzaro 516-810-3495 \nSamantha Lazzaro  631-764-6556 \nClara Pflueger 201-566-6492 \nSarah Mayo 307-248-1687 \n3281 Lake Worth Road\, Suite B\, \nLake Worth\, FL 33461 \n  \n*Always Call the shop steward before going to the shop. Open shop sessions may be cancelled or changed due to scheduling conflicts. \n \nUse of the Work Shop and Shop Classes require Club Membership.\nIf not a member\, you may join before the Classes begin.\nJOIN NOW\n 
URL:https://gmspb.org/event/open-shop-general-work-sarah-20/
LOCATION:Shop\, 3281 Lake Worth Road\, Lake Worth\, FL\, 33461\, United States
END:VEVENT
BEGIN:VEVENT
DTSTART;TZID=America/New_York:20250821T190000
DTEND;TZID=America/New_York:20250821T203000
DTSTAMP:20260425T120657
CREATED:20250729T135656Z
LAST-MODIFIED:20250821T181908Z
UID:6867-1755802800-1755808200@gmspb.org
SUMMARY:August Monthly Membership Meeting
DESCRIPTION:Member Summer Digs\n“Herkimer Diamond Mining”\nPresented by Various Club Members \n**********\nWHERE: inside the STEM Bldg\n4800 Dreher Trail N\n(across from the museum)\n\nROCKHOUND CHALLENGE\nfor AUGUST is your\nBEST FLORIDA CORAL\nAgatized or Calcified\n \nThe prize for the winner will be\na Herkimer Diamond and\nan Agatized Coral Specimen!!!\n___________\n\n\n\nPlease BRING a SNACK to SHARE\nDOOR PRIZES SILENT AUCTION\nSHOW ‘N TELL\n\n____________\nMEMBERSHIP RENEWALS*\nSingle – $30.00 Family – $50.00 ——————-\n\n____________
URL:https://gmspb.org/event/august-monthly-membership-meeting/
LOCATION:Cox-Multi-Purpose Center\, 4800 Dreher Trail North\, West Palm Beach\, FL\, 33405\, United States
END:VEVENT
BEGIN:VEVENT
DTSTART;TZID=America/New_York:20250822T180000
DTEND;TZID=America/New_York:20250822T210000
DTSTAMP:20260425T120657
CREATED:20250729T151024Z
LAST-MODIFIED:20250729T151024Z
UID:6909-1755885600-1755896400@gmspb.org
SUMMARY:Open Shop - General Work - Clara*
DESCRIPTION:Arlene Lazzaro 516-810-3495 \nSamantha Lazzaro  631-764-6556 \nClara Pflueger 201-566-6492 \nSarah Mayo 307-248-1687 \n3281 Lake Worth Road\, Suite B\, \nLake Worth\, FL 33461 \n  \n*Always Call the shop steward before going to the shop. Open shop sessions may be cancelled or changed due to scheduling conflicts. \n \nUse of the Work Shop and Shop Classes require Club Membership.\nIf not a member\, you may join before the Classes begin.\nJOIN NOW\n 
URL:https://gmspb.org/event/open-shop-general-work-clara-34/
LOCATION:Shop\, 3281 Lake Worth Road\, Lake Worth\, FL\, 33461\, United States
END:VEVENT
BEGIN:VEVENT
DTSTART;TZID=America/New_York:20250825T103000
DTEND;TZID=America/New_York:20250825T173000
DTSTAMP:20260425T120657
CREATED:20250729T152010Z
LAST-MODIFIED:20250729T152010Z
UID:6927-1756117800-1756143000@gmspb.org
SUMMARY:Open Shop - General Work - Samantha*
DESCRIPTION:Arlene Lazzaro 516-810-3495 \nSamantha Lazzaro  631-764-6556 \nClara Pflueger 201-566-6492 \nSarah Mayo 307-248-1687 \n3281 Lake Worth Road\, Suite B\, \nLake Worth\, FL 33461 \n  \n*Always Call the shop steward before going to the shop. Open shop sessions may be cancelled or changed due to scheduling conflicts. \n \nUse of the Work Shop and Shop Classes require Club Membership.\nIf not a member\, you may join before the Classes begin.\nJOIN NOW\n 
URL:https://gmspb.org/event/open-shop-general-work-samantha-17/
LOCATION:Shop\, 3281 Lake Worth Road\, Lake Worth\, FL\, 33461\, United States
ORGANIZER;CN="Samantha Lazzaro":MAILTO:crystalgrace2006@yahoo.com
END:VEVENT
BEGIN:VEVENT
DTSTART;TZID=America/New_York:20250825T180000
DTEND;TZID=America/New_York:20250825T210000
DTSTAMP:20260425T120657
CREATED:20250729T151522Z
LAST-MODIFIED:20250729T151522Z
UID:6919-1756144800-1756155600@gmspb.org
SUMMARY:Open Shop - General Work - Clara*
DESCRIPTION:Arlene Lazzaro 516-810-3495 \nSamantha Lazzaro  631-764-6556 \nClara Pflueger 201-566-6492 \nSarah Mayo 307-248-1687 \n3281 Lake Worth Road\, Suite B\, \nLake Worth\, FL 33461 \n  \n*Always Call the shop steward before going to the shop. Open shop sessions may be cancelled or changed due to scheduling conflicts. \n \nUse of the Work Shop and Shop Classes require Club Membership.\nIf not a member\, you may join before the Classes begin.\nJOIN NOW\n 
URL:https://gmspb.org/event/open-shop-general-work-clara-39/
LOCATION:Shop\, 3281 Lake Worth Road\, Lake Worth\, FL\, 33461\, United States
END:VEVENT
BEGIN:VEVENT
DTSTART;TZID=America/New_York:20250828T130000
DTEND;TZID=America/New_York:20250828T190000
DTSTAMP:20260425T120657
CREATED:20250729T145959Z
LAST-MODIFIED:20250729T145959Z
UID:6895-1756386000-1756407600@gmspb.org
SUMMARY:Open Shop - General Work - Sarah*
DESCRIPTION:Arlene Lazzaro 516-810-3495 \nSamantha Lazzaro  631-764-6556 \nClara Pflueger 201-566-6492 \nSarah Mayo 307-248-1687 \n3281 Lake Worth Road\, Suite B\, \nLake Worth\, FL 33461 \n  \n*Always Call the shop steward before going to the shop. Open shop sessions may be cancelled or changed due to scheduling conflicts. \n \nUse of the Work Shop and Shop Classes require Club Membership.\nIf not a member\, you may join before the Classes begin.\nJOIN NOW\n 
URL:https://gmspb.org/event/open-shop-general-work-sarah-19/
LOCATION:Shop\, 3281 Lake Worth Road\, Lake Worth\, FL\, 33461\, United States
END:VEVENT
BEGIN:VEVENT
DTSTART;TZID=America/New_York:20250829T180000
DTEND;TZID=America/New_York:20250829T210000
DTSTAMP:20260425T120657
CREATED:20250729T151127Z
LAST-MODIFIED:20250729T151127Z
UID:6911-1756490400-1756501200@gmspb.org
SUMMARY:Open Shop - General Work - Clara*
DESCRIPTION:Arlene Lazzaro 516-810-3495 \nSamantha Lazzaro  631-764-6556 \nClara Pflueger 201-566-6492 \nSarah Mayo 307-248-1687 \n3281 Lake Worth Road\, Suite B\, \nLake Worth\, FL 33461 \n  \n*Always Call the shop steward before going to the shop. Open shop sessions may be cancelled or changed due to scheduling conflicts. \n \nUse of the Work Shop and Shop Classes require Club Membership.\nIf not a member\, you may join before the Classes begin.\nJOIN NOW\n 
URL:https://gmspb.org/event/open-shop-general-work-clara-35/
LOCATION:Shop\, 3281 Lake Worth Road\, Lake Worth\, FL\, 33461\, United States
END:VEVENT
BEGIN:VEVENT
DTSTART;TZID=America/New_York:20250901T103000
DTEND;TZID=America/New_York:20250901T173000
DTSTAMP:20260425T120657
CREATED:20250729T152103Z
LAST-MODIFIED:20250729T152103Z
UID:6929-1756722600-1756747800@gmspb.org
SUMMARY:Open Shop - General Work - Samantha*
DESCRIPTION:Arlene Lazzaro 516-810-3495 \nSamantha Lazzaro  631-764-6556 \nClara Pflueger 201-566-6492 \nSarah Mayo 307-248-1687 \n3281 Lake Worth Road\, Suite B\, \nLake Worth\, FL 33461 \n  \n*Always Call the shop steward before going to the shop. Open shop sessions may be cancelled or changed due to scheduling conflicts. \n \nUse of the Work Shop and Shop Classes require Club Membership.\nIf not a member\, you may join before the Classes begin.\nJOIN NOW\n 
URL:https://gmspb.org/event/open-shop-general-work-samantha-18/
LOCATION:Shop\, 3281 Lake Worth Road\, Lake Worth\, FL\, 33461\, United States
ORGANIZER;CN="Samantha Lazzaro":MAILTO:crystalgrace2006@yahoo.com
END:VEVENT
BEGIN:VEVENT
DTSTART;TZID=America/New_York:20250901T180000
DTEND;TZID=America/New_York:20250901T210000
DTSTAMP:20260425T120657
CREATED:20250729T151625Z
LAST-MODIFIED:20250729T151625Z
UID:6921-1756749600-1756760400@gmspb.org
SUMMARY:Open Shop - General Work - Clara*
DESCRIPTION:Arlene Lazzaro 516-810-3495 \nSamantha Lazzaro  631-764-6556 \nClara Pflueger 201-566-6492 \nSarah Mayo 307-248-1687 \n3281 Lake Worth Road\, Suite B\, \nLake Worth\, FL 33461 \n  \n*Always Call the shop steward before going to the shop. Open shop sessions may be cancelled or changed due to scheduling conflicts. \n \nUse of the Work Shop and Shop Classes require Club Membership.\nIf not a member\, you may join before the Classes begin.\nJOIN NOW\n 
URL:https://gmspb.org/event/open-shop-general-work-clara-40/
LOCATION:Shop\, 3281 Lake Worth Road\, Lake Worth\, FL\, 33461\, United States
END:VEVENT
BEGIN:VEVENT
DTSTART;TZID=America/New_York:20250903T190000
DTEND;TZID=America/New_York:20250903T200000
DTSTAMP:20260425T120657
CREATED:20250830T162934Z
LAST-MODIFIED:20250830T162934Z
UID:6962-1756926000-1756929600@gmspb.org
SUMMARY:GMSPB Monthly Board Meeting
DESCRIPTION:Contact Arlene Lazzaro for link to join the meeting… \npresident@gmspb.org \n(516) 810-3495
URL:https://gmspb.org/event/gmspb-monthly-board-meeting-6/
LOCATION:ZOOM
END:VEVENT
BEGIN:VEVENT
DTSTART;TZID=America/New_York:20250904T130000
DTEND;TZID=America/New_York:20250904T190000
DTSTAMP:20260425T120657
CREATED:20250729T150213Z
LAST-MODIFIED:20250729T150213Z
UID:6899-1756990800-1757012400@gmspb.org
SUMMARY:Open Shop - General Work - Sarah*
DESCRIPTION:Arlene Lazzaro 516-810-3495 \nSamantha Lazzaro  631-764-6556 \nClara Pflueger 201-566-6492 \nSarah Mayo 307-248-1687 \n3281 Lake Worth Road\, Suite B\, \nLake Worth\, FL 33461 \n  \n*Always Call the shop steward before going to the shop. Open shop sessions may be cancelled or changed due to scheduling conflicts. \n \nUse of the Work Shop and Shop Classes require Club Membership.\nIf not a member\, you may join before the Classes begin.\nJOIN NOW\n 
URL:https://gmspb.org/event/open-shop-general-work-sarah-21/
LOCATION:Shop\, 3281 Lake Worth Road\, Lake Worth\, FL\, 33461\, United States
END:VEVENT
BEGIN:VEVENT
DTSTART;TZID=America/New_York:20250905T180000
DTEND;TZID=America/New_York:20250905T210000
DTSTAMP:20260425T120657
CREATED:20250729T151223Z
LAST-MODIFIED:20250729T151223Z
UID:6913-1757095200-1757106000@gmspb.org
SUMMARY:Open Shop - General Work - Clara*
DESCRIPTION:Arlene Lazzaro 516-810-3495 \nSamantha Lazzaro  631-764-6556 \nClara Pflueger 201-566-6492 \nSarah Mayo 307-248-1687 \n3281 Lake Worth Road\, Suite B\, \nLake Worth\, FL 33461 \n  \n*Always Call the shop steward before going to the shop. Open shop sessions may be cancelled or changed due to scheduling conflicts. \n \nUse of the Work Shop and Shop Classes require Club Membership.\nIf not a member\, you may join before the Classes begin.\nJOIN NOW\n 
URL:https://gmspb.org/event/open-shop-general-work-clara-36/
LOCATION:Shop\, 3281 Lake Worth Road\, Lake Worth\, FL\, 33461\, United States
END:VEVENT
BEGIN:VEVENT
DTSTART;VALUE=DATE:20250906
DTEND;VALUE=DATE:20250908
DTSTAMP:20260425T120657
CREATED:20250729T154209Z
LAST-MODIFIED:20250729T154442Z
UID:6942-1757116800-1757289599@gmspb.org
SUMMARY:Food Forest Calcite Dig
DESCRIPTION:
URL:https://gmspb.org/event/food-forest-calcite-dig/
LOCATION:Vero Beach Florida\, FL\, United States
END:VEVENT
END:VCALENDAR