BEGIN:VCALENDAR
VERSION:2.0
PRODID:-//Gem and Mineral Society of the Palm Beaches, Inc. - ECPv6.15.16.1//NONSGML v1.0//EN
CALSCALE:GREGORIAN
METHOD:PUBLISH
X-WR-CALNAME:Gem and Mineral Society of the Palm Beaches, Inc.
X-ORIGINAL-URL:https://gmspb.org
X-WR-CALDESC:Events for Gem and Mineral Society of the Palm Beaches, Inc.
REFRESH-INTERVAL;VALUE=DURATION:PT1H
X-Robots-Tag:noindex
X-PUBLISHED-TTL:PT1H
BEGIN:VTIMEZONE
TZID:America/New_York
BEGIN:DAYLIGHT
TZOFFSETFROM:-0500
TZOFFSETTO:-0400
TZNAME:EDT
DTSTART:20240310T070000
END:DAYLIGHT
BEGIN:STANDARD
TZOFFSETFROM:-0400
TZOFFSETTO:-0500
TZNAME:EST
DTSTART:20241103T060000
END:STANDARD
BEGIN:DAYLIGHT
TZOFFSETFROM:-0500
TZOFFSETTO:-0400
TZNAME:EDT
DTSTART:20250309T070000
END:DAYLIGHT
BEGIN:STANDARD
TZOFFSETFROM:-0400
TZOFFSETTO:-0500
TZNAME:EST
DTSTART:20251102T060000
END:STANDARD
BEGIN:DAYLIGHT
TZOFFSETFROM:-0500
TZOFFSETTO:-0400
TZNAME:EDT
DTSTART:20260308T070000
END:DAYLIGHT
BEGIN:STANDARD
TZOFFSETFROM:-0400
TZOFFSETTO:-0500
TZNAME:EST
DTSTART:20261101T060000
END:STANDARD
END:VTIMEZONE
BEGIN:VEVENT
DTSTART;TZID=America/New_York:20250512T180000
DTEND;TZID=America/New_York:20250512T210000
DTSTAMP:20260425T082851
CREATED:20250430T163853Z
LAST-MODIFIED:20250430T164832Z
UID:6579-1747072800-1747083600@gmspb.org
SUMMARY:Open Shop - General Work - Clara*
DESCRIPTION:Arlene Lazzaro 516-810-3495 \nSamantha Lazzaro  631-764-6556 \nClara Pflueger 201-566-6492 \nSarah Mayo 307-248-1687 \n3281 Lake Worth Road\, Suite B\, \nLake Worth\, FL 33461 \n  \n*Always Call the shop steward before going to the shop. Open shop sessions may be cancelled or changed due to scheduling conflicts. \n \nUse of the Work Shop and Shop Classes require Club Membership.\nIf not a member\, you may join before the Classes begin.\nJOIN NOW\n 
URL:https://gmspb.org/event/open-shop-general-work-clara-15/
LOCATION:Shop\, 3281 Lake Worth Road\, Lake Worth\, FL\, 33461\, United States
END:VEVENT
BEGIN:VEVENT
DTSTART;TZID=America/New_York:20250515T130000
DTEND;TZID=America/New_York:20250515T190000
DTSTAMP:20260425T082851
CREATED:20250430T164613Z
LAST-MODIFIED:20250430T164613Z
UID:6585-1747314000-1747335600@gmspb.org
SUMMARY:Open Shop - General Work - Sarah*
DESCRIPTION:Arlene Lazzaro 516-810-3495 \nSamantha Lazzaro  631-764-6556 \nClara Pflueger 201-566-6492 \nSarah Mayo 307-248-1687 \n3281 Lake Worth Road\, Suite B\, \nLake Worth\, FL 33461 \n  \n*Always Call the shop steward before going to the shop. Open shop sessions may be cancelled or changed due to scheduling conflicts. \n \nUse of the Work Shop and Shop Classes require Club Membership.\nIf not a member\, you may join before the Classes begin.\nJOIN NOW\n 
URL:https://gmspb.org/event/open-shop-general-work-sarah-8/
LOCATION:Shop\, 3281 Lake Worth Road\, Lake Worth\, FL\, 33461\, United States
END:VEVENT
BEGIN:VEVENT
DTSTART;TZID=America/New_York:20250515T190000
DTEND;TZID=America/New_York:20250515T203000
DTSTAMP:20260425T082851
CREATED:20250430T150401Z
LAST-MODIFIED:20250510T142927Z
UID:6558-1747335600-1747341000@gmspb.org
SUMMARY:May 15th Membership Meeting
DESCRIPTION:“How to Build”\n“a Mineral Collection”\n\n  \n \nPresented by Club Member Clay Hecocks\n\n\n**********\nWHERE: inside the STEM Bldg\n4800 Dreher Trail N\n(across from the museum)\n\nROCKHOUND CHALLENGE\nfor MAY is your best\nGREEN SPECIMEN\nThe winner will receive\n \nthis amazing Crabtree Emerald Matrix\nand Emerald Beryl !!!\n___________\n\n\n\nPlease BRING a SNACK to SHARE\nDOOR PRIZES\nSILENT AUCTION\nSHOW ‘N TELL\n\n____________\nMEMBERSHIP RENEWALS*\nare Due Now\nSingle – $30.00\nFamily – $50.00\n——————-\n* If you joined in October – December\, 2024\, the renewal notice does not affect you. Your membership is good thru December\, 2025\n____________
URL:https://gmspb.org/event/may-15th-membership-meeting/
LOCATION:Cox-Multi-Purpose Center\, 4800 Dreher Trail North\, West Palm Beach\, FL\, 33405\, United States
END:VEVENT
BEGIN:VEVENT
DTSTART;TZID=America/New_York:20250516T180000
DTEND;TZID=America/New_York:20250516T210000
DTSTAMP:20260425T082851
CREATED:20250430T165734Z
LAST-MODIFIED:20250430T165734Z
UID:6588-1747418400-1747429200@gmspb.org
SUMMARY:Open Shop - General Work - Clara*
DESCRIPTION:Arlene Lazzaro 516-810-3495 \nSamantha Lazzaro  631-764-6556 \nClara Pflueger 201-566-6492 \nSarah Mayo 307-248-1687 \n3281 Lake Worth Road\, Suite B\, \nLake Worth\, FL 33461 \n  \n*Always Call the shop steward before going to the shop. Open shop sessions may be cancelled or changed due to scheduling conflicts. \n \nUse of the Work Shop and Shop Classes require Club Membership.\nIf not a member\, you may join before the Classes begin.\nJOIN NOW\n 
URL:https://gmspb.org/event/open-shop-general-work-clara-18/
LOCATION:Shop\, 3281 Lake Worth Road\, Lake Worth\, FL\, 33461\, United States
END:VEVENT
BEGIN:VEVENT
DTSTART;TZID=America/New_York:20250519T103000
DTEND;TZID=America/New_York:20250519T173000
DTSTAMP:20260425T082851
CREATED:20250430T163341Z
LAST-MODIFIED:20250430T164734Z
UID:6573-1747650600-1747675800@gmspb.org
SUMMARY:Open Shop - General Work - Samantha*
DESCRIPTION:Arlene Lazzaro 516-810-3495 \nSamantha Lazzaro  631-764-6556 \nClara Pflueger 201-566-6492 \nSarah Mayo 307-248-1687 \n3281 Lake Worth Road\, Suite B\, \nLake Worth\, FL 33461 \n  \n*Always Call the shop steward before going to the shop. Open shop sessions may be cancelled or changed due to scheduling conflicts. \n \nUse of the Work Shop and Shop Classes require Club Membership.\nIf not a member\, you may join before the Classes begin.\nJOIN NOW\n 
URL:https://gmspb.org/event/open-shop-general-work-samantha-9/
LOCATION:Shop\, 3281 Lake Worth Road\, Lake Worth\, FL\, 33461\, United States
ORGANIZER;CN="Samantha Lazzaro":MAILTO:crystalgrace2006@yahoo.com
END:VEVENT
BEGIN:VEVENT
DTSTART;TZID=America/New_York:20250519T180000
DTEND;TZID=America/New_York:20250519T210000
DTSTAMP:20260425T082851
CREATED:20250430T164354Z
LAST-MODIFIED:20250430T164708Z
UID:6581-1747677600-1747688400@gmspb.org
SUMMARY:Open Shop - General Work - Clara*
DESCRIPTION:Arlene Lazzaro 516-810-3495 \nSamantha Lazzaro  631-764-6556 \nClara Pflueger 201-566-6492 \nSarah Mayo 307-248-1687 \n3281 Lake Worth Road\, Suite B\, \nLake Worth\, FL 33461 \n  \n*Always Call the shop steward before going to the shop. Open shop sessions may be cancelled or changed due to scheduling conflicts. \n \nUse of the Work Shop and Shop Classes require Club Membership.\nIf not a member\, you may join before the Classes begin.\nJOIN NOW\n 
URL:https://gmspb.org/event/open-shop-general-work-clara-16/
LOCATION:Shop\, 3281 Lake Worth Road\, Lake Worth\, FL\, 33461\, United States
END:VEVENT
BEGIN:VEVENT
DTSTART;TZID=America/New_York:20250522T130000
DTEND;TZID=America/New_York:20250522T190000
DTSTAMP:20260425T082851
CREATED:20250430T165844Z
LAST-MODIFIED:20250430T165844Z
UID:6590-1747918800-1747940400@gmspb.org
SUMMARY:Open Shop - General Work - Sarah*
DESCRIPTION:Arlene Lazzaro 516-810-3495 \nSamantha Lazzaro  631-764-6556 \nClara Pflueger 201-566-6492 \nSarah Mayo 307-248-1687 \n3281 Lake Worth Road\, Suite B\, \nLake Worth\, FL 33461 \n  \n*Always Call the shop steward before going to the shop. Open shop sessions may be cancelled or changed due to scheduling conflicts. \n \nUse of the Work Shop and Shop Classes require Club Membership.\nIf not a member\, you may join before the Classes begin.\nJOIN NOW\n 
URL:https://gmspb.org/event/open-shop-general-work-sarah-9/
LOCATION:Shop\, 3281 Lake Worth Road\, Lake Worth\, FL\, 33461\, United States
END:VEVENT
BEGIN:VEVENT
DTSTART;TZID=America/New_York:20250523T180000
DTEND;TZID=America/New_York:20250523T210000
DTSTAMP:20260425T082851
CREATED:20250430T170051Z
LAST-MODIFIED:20250430T170051Z
UID:6594-1748023200-1748034000@gmspb.org
SUMMARY:Open Shop - General Work - Clara*
DESCRIPTION:Arlene Lazzaro 516-810-3495 \nSamantha Lazzaro  631-764-6556 \nClara Pflueger 201-566-6492 \nSarah Mayo 307-248-1687 \n3281 Lake Worth Road\, Suite B\, \nLake Worth\, FL 33461 \n  \n*Always Call the shop steward before going to the shop. Open shop sessions may be cancelled or changed due to scheduling conflicts. \n \nUse of the Work Shop and Shop Classes require Club Membership.\nIf not a member\, you may join before the Classes begin.\nJOIN NOW\n 
URL:https://gmspb.org/event/open-shop-general-work-clara-19/
LOCATION:Shop\, 3281 Lake Worth Road\, Lake Worth\, FL\, 33461\, United States
END:VEVENT
BEGIN:VEVENT
DTSTART;TZID=America/New_York:20250526T103000
DTEND;TZID=America/New_York:20250526T173000
DTSTAMP:20260425T082851
CREATED:20250430T163437Z
LAST-MODIFIED:20250430T164642Z
UID:6575-1748255400-1748280600@gmspb.org
SUMMARY:Open Shop - General Work - Samantha*
DESCRIPTION:Arlene Lazzaro 516-810-3495 \nSamantha Lazzaro  631-764-6556 \nClara Pflueger 201-566-6492 \nSarah Mayo 307-248-1687 \n3281 Lake Worth Road\, Suite B\, \nLake Worth\, FL 33461 \n  \n*Always Call the shop steward before going to the shop. Open shop sessions may be cancelled or changed due to scheduling conflicts. \n \nUse of the Work Shop and Shop Classes require Club Membership.\nIf not a member\, you may join before the Classes begin.\nJOIN NOW\n 
URL:https://gmspb.org/event/open-shop-general-work-samantha-10/
LOCATION:Shop\, 3281 Lake Worth Road\, Lake Worth\, FL\, 33461\, United States
ORGANIZER;CN="Samantha Lazzaro":MAILTO:crystalgrace2006@yahoo.com
END:VEVENT
BEGIN:VEVENT
DTSTART;TZID=America/New_York:20250526T180000
DTEND;TZID=America/New_York:20250526T210000
DTSTAMP:20260425T082851
CREATED:20250430T164446Z
LAST-MODIFIED:20250430T165214Z
UID:6583-1748282400-1748293200@gmspb.org
SUMMARY:Open Shop - General Work - Clara*
DESCRIPTION:Arlene Lazzaro 516-810-3495 \nSamantha Lazzaro  631-764-6556 \nClara Pflueger 201-566-6492 \nSarah Mayo 307-248-1687 \n3281 Lake Worth Road\, Suite B\, \nLake Worth\, FL 33461 \n  \n*Always Call the shop steward before going to the shop. Open shop sessions may be cancelled or changed due to scheduling conflicts. \n \nUse of the Work Shop and Shop Classes require Club Membership.\nIf not a member\, you may join before the Classes begin.\nJOIN NOW\n 
URL:https://gmspb.org/event/open-shop-general-work-clara-17/
LOCATION:Shop\, 3281 Lake Worth Road\, Lake Worth\, FL\, 33461\, United States
END:VEVENT
BEGIN:VEVENT
DTSTART;TZID=America/New_York:20250529T130000
DTEND;TZID=America/New_York:20250529T190000
DTSTAMP:20260425T082851
CREATED:20250430T165950Z
LAST-MODIFIED:20250430T165950Z
UID:6592-1748523600-1748545200@gmspb.org
SUMMARY:Open Shop - General Work - Sarah*
DESCRIPTION:Arlene Lazzaro 516-810-3495 \nSamantha Lazzaro  631-764-6556 \nClara Pflueger 201-566-6492 \nSarah Mayo 307-248-1687 \n3281 Lake Worth Road\, Suite B\, \nLake Worth\, FL 33461 \n  \n*Always Call the shop steward before going to the shop. Open shop sessions may be cancelled or changed due to scheduling conflicts. \n \nUse of the Work Shop and Shop Classes require Club Membership.\nIf not a member\, you may join before the Classes begin.\nJOIN NOW\n 
URL:https://gmspb.org/event/open-shop-general-work-sarah-10/
LOCATION:Shop\, 3281 Lake Worth Road\, Lake Worth\, FL\, 33461\, United States
END:VEVENT
BEGIN:VEVENT
DTSTART;TZID=America/New_York:20250530T180000
DTEND;TZID=America/New_York:20250530T210000
DTSTAMP:20260425T082851
CREATED:20250430T170153Z
LAST-MODIFIED:20250430T170153Z
UID:6596-1748628000-1748638800@gmspb.org
SUMMARY:Open Shop - General Work - Clara*
DESCRIPTION:Arlene Lazzaro 516-810-3495 \nSamantha Lazzaro  631-764-6556 \nClara Pflueger 201-566-6492 \nSarah Mayo 307-248-1687 \n3281 Lake Worth Road\, Suite B\, \nLake Worth\, FL 33461 \n  \n*Always Call the shop steward before going to the shop. Open shop sessions may be cancelled or changed due to scheduling conflicts. \n \nUse of the Work Shop and Shop Classes require Club Membership.\nIf not a member\, you may join before the Classes begin.\nJOIN NOW\n 
URL:https://gmspb.org/event/open-shop-general-work-clara-20/
LOCATION:Shop\, 3281 Lake Worth Road\, Lake Worth\, FL\, 33461\, United States
END:VEVENT
BEGIN:VEVENT
DTSTART;TZID=America/New_York:20250604T190000
DTEND;TZID=America/New_York:20250604T203000
DTSTAMP:20260425T082851
CREATED:20250605T043600Z
LAST-MODIFIED:20250605T043628Z
UID:6843-1749063600-1749069000@gmspb.org
SUMMARY:GMSPB Monthly Board Meeting
DESCRIPTION:
URL:https://gmspb.org/event/gmspb-monthly-board-meeting-3/
LOCATION:ZOOM
END:VEVENT
BEGIN:VEVENT
DTSTART;TZID=America/New_York:20250605T130000
DTEND;TZID=America/New_York:20250605T190000
DTSTAMP:20260425T082851
CREATED:20250605T041626Z
LAST-MODIFIED:20250605T041626Z
UID:6807-1749128400-1749150000@gmspb.org
SUMMARY:Open Shop - General Work - Sarah*
DESCRIPTION:
URL:https://gmspb.org/event/open-shop-general-work-sarah-11/
LOCATION:Shop\, 3281 Lake Worth Road\, Lake Worth\, FL\, 33461\, United States
END:VEVENT
BEGIN:VEVENT
DTSTART;TZID=America/New_York:20250606T180000
DTEND;TZID=America/New_York:20250606T210000
DTSTAMP:20260425T082851
CREATED:20250605T041733Z
LAST-MODIFIED:20250605T041733Z
UID:6809-1749232800-1749243600@gmspb.org
SUMMARY:Open Shop - General Work - Clara*
DESCRIPTION:
URL:https://gmspb.org/event/open-shop-general-work-clara-21/
LOCATION:Shop\, 3281 Lake Worth Road\, Lake Worth\, FL\, 33461\, United States
END:VEVENT
BEGIN:VEVENT
DTSTART;TZID=America/New_York:20250609T103000
DTEND;TZID=America/New_York:20250609T173000
DTSTAMP:20260425T082851
CREATED:20250605T041839Z
LAST-MODIFIED:20250605T041839Z
UID:6811-1749465000-1749490200@gmspb.org
SUMMARY:Open Shop - General Work - Samantha*
DESCRIPTION:
URL:https://gmspb.org/event/open-shop-general-work-samantha-11/
LOCATION:Shop\, 3281 Lake Worth Road\, Lake Worth\, FL\, 33461\, United States
ORGANIZER;CN="Samantha Lazzaro":MAILTO:crystalgrace2006@yahoo.com
END:VEVENT
BEGIN:VEVENT
DTSTART;TZID=America/New_York:20250609T180000
DTEND;TZID=America/New_York:20250609T210000
DTSTAMP:20260425T082851
CREATED:20250605T041938Z
LAST-MODIFIED:20250605T041938Z
UID:6813-1749492000-1749502800@gmspb.org
SUMMARY:Open Shop - General Work - Clara*
DESCRIPTION:
URL:https://gmspb.org/event/open-shop-general-work-clara-22/
LOCATION:Shop\, 3281 Lake Worth Road\, Lake Worth\, FL\, 33461\, United States
END:VEVENT
BEGIN:VEVENT
DTSTART;TZID=America/New_York:20250612T130000
DTEND;TZID=America/New_York:20250612T190000
DTSTAMP:20260425T082851
CREATED:20250605T042046Z
LAST-MODIFIED:20250605T042046Z
UID:6815-1749733200-1749754800@gmspb.org
SUMMARY:Open Shop - General Work - Sarah*
DESCRIPTION:
URL:https://gmspb.org/event/open-shop-general-work-sarah-12/
LOCATION:Shop\, 3281 Lake Worth Road\, Lake Worth\, FL\, 33461\, United States
END:VEVENT
BEGIN:VEVENT
DTSTART;TZID=America/New_York:20250613T180000
DTEND;TZID=America/New_York:20250613T210000
DTSTAMP:20260425T082851
CREATED:20250605T042156Z
LAST-MODIFIED:20250605T042156Z
UID:6817-1749837600-1749848400@gmspb.org
SUMMARY:Open Shop - General Work - Clara*
DESCRIPTION:
URL:https://gmspb.org/event/open-shop-general-work-clara-23/
LOCATION:Shop\, 3281 Lake Worth Road\, Lake Worth\, FL\, 33461\, United States
END:VEVENT
BEGIN:VEVENT
DTSTART;TZID=America/New_York:20250616T103000
DTEND;TZID=America/New_York:20250616T173000
DTSTAMP:20260425T082851
CREATED:20250605T042312Z
LAST-MODIFIED:20250605T042312Z
UID:6819-1750069800-1750095000@gmspb.org
SUMMARY:Open Shop - General Work - Samanatha*
DESCRIPTION:
URL:https://gmspb.org/event/open-shop-general-work-samanatha/
LOCATION:Shop\, 3281 Lake Worth Road\, Lake Worth\, FL\, 33461\, United States
ORGANIZER;CN="Samantha Lazzaro":MAILTO:crystalgrace2006@yahoo.com
END:VEVENT
BEGIN:VEVENT
DTSTART;TZID=America/New_York:20250616T180000
DTEND;TZID=America/New_York:20250616T210000
DTSTAMP:20260425T082851
CREATED:20250605T042422Z
LAST-MODIFIED:20250605T042422Z
UID:6821-1750096800-1750107600@gmspb.org
SUMMARY:Open Shop - General Work - Clara*
DESCRIPTION:
URL:https://gmspb.org/event/open-shop-general-work-clara-24/
LOCATION:Shop\, 3281 Lake Worth Road\, Lake Worth\, FL\, 33461\, United States
END:VEVENT
BEGIN:VEVENT
DTSTART;TZID=America/New_York:20250619T130000
DTEND;TZID=America/New_York:20250619T160000
DTSTAMP:20260425T082851
CREATED:20250605T042547Z
LAST-MODIFIED:20250605T042547Z
UID:6823-1750338000-1750348800@gmspb.org
SUMMARY:Open Shop - General Work - Sarah*
DESCRIPTION:
URL:https://gmspb.org/event/open-shop-general-work-sarah-13/
LOCATION:Shop\, 3281 Lake Worth Road\, Lake Worth\, FL\, 33461\, United States
END:VEVENT
BEGIN:VEVENT
DTSTART;TZID=America/New_York:20250619T180000
DTEND;TZID=America/New_York:20250619T210000
DTSTAMP:20260425T082851
CREATED:20250430T170656Z
LAST-MODIFIED:20250605T044015Z
UID:6600-1750356000-1750366800@gmspb.org
SUMMARY:June 19th Membership Meeting - FIESTA PARTY
DESCRIPTION:WHERE: inside the STEM Bldg\n4800 Dreher Trail N\n(across from the museum)\n\nROCKHOUND CHALLENGE\nNo Rockhound Challenge for JUNE \n___________\n\n\n\nPlease BRING a DISH to SHARE\nGAMES instead of DOOR PRIZES\nSILENT and LIVE AUCTIONS\nNO SHOW ‘N TELL\n\n____________\nMEMBERSHIP RENEWALS*\nare Due Now\nSingle – $30.00\nFamily – $50.00\n——————-\n* If you joined in October – December\, 2024\, the renewal notice does not affect you. Your membership is good thru December\, 2025\n____________
URL:https://gmspb.org/event/june-19th-membership-meeting/
LOCATION:Cox-Multi-Purpose Center\, 4800 Dreher Trail North\, West Palm Beach\, FL\, 33405\, United States
END:VEVENT
BEGIN:VEVENT
DTSTART;TZID=America/New_York:20250620T180000
DTEND;TZID=America/New_York:20250620T210000
DTSTAMP:20260425T082851
CREATED:20250605T042643Z
LAST-MODIFIED:20250605T042643Z
UID:6825-1750442400-1750453200@gmspb.org
SUMMARY:Open Shop - General Work - Clara*
DESCRIPTION:
URL:https://gmspb.org/event/open-shop-general-work-clara-25/
LOCATION:Shop\, 3281 Lake Worth Road\, Lake Worth\, FL\, 33461\, United States
END:VEVENT
BEGIN:VEVENT
DTSTART;TZID=America/New_York:20250623T103000
DTEND;TZID=America/New_York:20250623T173000
DTSTAMP:20260425T082851
CREATED:20250605T042749Z
LAST-MODIFIED:20250605T042749Z
UID:6827-1750674600-1750699800@gmspb.org
SUMMARY:Open Shop - General Work - Samantha*
DESCRIPTION:
URL:https://gmspb.org/event/open-shop-general-work-samantha-12/
LOCATION:Shop\, 3281 Lake Worth Road\, Lake Worth\, FL\, 33461\, United States
ORGANIZER;CN="Samantha Lazzaro":MAILTO:crystalgrace2006@yahoo.com
END:VEVENT
BEGIN:VEVENT
DTSTART;TZID=America/New_York:20250623T180000
DTEND;TZID=America/New_York:20250623T210000
DTSTAMP:20260425T082851
CREATED:20250605T042837Z
LAST-MODIFIED:20250605T042837Z
UID:6829-1750701600-1750712400@gmspb.org
SUMMARY:Open Shop - General Work - Clara*
DESCRIPTION:
URL:https://gmspb.org/event/open-shop-general-work-clara-26/
LOCATION:Shop\, 3281 Lake Worth Road\, Lake Worth\, FL\, 33461\, United States
END:VEVENT
BEGIN:VEVENT
DTSTART;TZID=America/New_York:20250626T130000
DTEND;TZID=America/New_York:20250626T190000
DTSTAMP:20260425T082851
CREATED:20250605T042941Z
LAST-MODIFIED:20250605T042941Z
UID:6831-1750942800-1750964400@gmspb.org
SUMMARY:Open Shop - General Work - Sarah*
DESCRIPTION:
URL:https://gmspb.org/event/open-shop-general-work-sarah-14/
LOCATION:Shop\, 3281 Lake Worth Road\, Lake Worth\, FL\, 33461\, United States
END:VEVENT
BEGIN:VEVENT
DTSTART;TZID=America/New_York:20250627T180000
DTEND;TZID=America/New_York:20250627T210000
DTSTAMP:20260425T082851
CREATED:20250605T043037Z
LAST-MODIFIED:20250605T043037Z
UID:6833-1751047200-1751058000@gmspb.org
SUMMARY:Open Shop - General Work - Clara*
DESCRIPTION:
URL:https://gmspb.org/event/open-shop-general-work-clara-27/
LOCATION:Shop\, 3281 Lake Worth Road\, Lake Worth\, FL\, 33461\, United States
END:VEVENT
BEGIN:VEVENT
DTSTART;TZID=America/New_York:20250630T103000
DTEND;TZID=America/New_York:20250630T173000
DTSTAMP:20260425T082851
CREATED:20250605T043132Z
LAST-MODIFIED:20250605T043132Z
UID:6835-1751279400-1751304600@gmspb.org
SUMMARY:Open Shop - General Work - Samantha*
DESCRIPTION:
URL:https://gmspb.org/event/open-shop-general-work-samantha-13/
LOCATION:Shop\, 3281 Lake Worth Road\, Lake Worth\, FL\, 33461\, United States
ORGANIZER;CN="Samantha Lazzaro":MAILTO:crystalgrace2006@yahoo.com
END:VEVENT
BEGIN:VEVENT
DTSTART;TZID=America/New_York:20250630T180000
DTEND;TZID=America/New_York:20250630T210000
DTSTAMP:20260425T082851
CREATED:20250605T043220Z
LAST-MODIFIED:20250605T043220Z
UID:6837-1751306400-1751317200@gmspb.org
SUMMARY:Open Shop - General Work - Clara*
DESCRIPTION:
URL:https://gmspb.org/event/open-shop-general-work-clara-28/
LOCATION:Shop\, 3281 Lake Worth Road\, Lake Worth\, FL\, 33461\, United States
END:VEVENT
END:VCALENDAR