BEGIN:VCALENDAR
VERSION:2.0
PRODID:-//Gem and Mineral Society of the Palm Beaches, Inc. - ECPv6.15.16.1//NONSGML v1.0//EN
CALSCALE:GREGORIAN
METHOD:PUBLISH
X-WR-CALNAME:Gem and Mineral Society of the Palm Beaches, Inc.
X-ORIGINAL-URL:https://gmspb.org
X-WR-CALDESC:Events for Gem and Mineral Society of the Palm Beaches, Inc.
REFRESH-INTERVAL;VALUE=DURATION:PT1H
X-Robots-Tag:noindex
X-PUBLISHED-TTL:PT1H
BEGIN:VTIMEZONE
TZID:America/New_York
BEGIN:DAYLIGHT
TZOFFSETFROM:-0500
TZOFFSETTO:-0400
TZNAME:EDT
DTSTART:20230312T070000
END:DAYLIGHT
BEGIN:STANDARD
TZOFFSETFROM:-0400
TZOFFSETTO:-0500
TZNAME:EST
DTSTART:20231105T060000
END:STANDARD
BEGIN:DAYLIGHT
TZOFFSETFROM:-0500
TZOFFSETTO:-0400
TZNAME:EDT
DTSTART:20240310T070000
END:DAYLIGHT
BEGIN:STANDARD
TZOFFSETFROM:-0400
TZOFFSETTO:-0500
TZNAME:EST
DTSTART:20241103T060000
END:STANDARD
BEGIN:DAYLIGHT
TZOFFSETFROM:-0500
TZOFFSETTO:-0400
TZNAME:EDT
DTSTART:20250309T070000
END:DAYLIGHT
BEGIN:STANDARD
TZOFFSETFROM:-0400
TZOFFSETTO:-0500
TZNAME:EST
DTSTART:20251102T060000
END:STANDARD
END:VTIMEZONE
BEGIN:VEVENT
DTSTART;TZID=America/New_York:20241012T100000
DTEND;TZID=America/New_York:20241012T160000
DTSTAMP:20260425T091228
CREATED:20240814T012311Z
LAST-MODIFIED:20241006T153619Z
UID:5697-1728727200-1728748800@gmspb.org
SUMMARY:Annual Members Only Field Trip GMSPB CLAM BREAK
DESCRIPTION:Hello Members! \nDon’t forget 🙂\nOur Annual Member Field Trip\,\nthe GMSPB Clam Break\nis coming up soon. \n********************************* \nCome to the Sept 19 meeting – at COX Science Center\nthis month – to learn more and see samples of what\nyou might find!  \n********************************* \nDEADLINE to sign up\nis Sunday October 6 \n********************************* \nProper shoes required. Closed toe. No sandals.\nNo smoking in the work area. \nEye protection needed. \nHere are more details. \nAnnual Gem Club MEMBER\nField Trip \nSaturday\, September 28\n10 AM – 4 PM \n  \nCost \n$20 per adult participant\n$10 per child\nLocation Melbourne\, FL     \n  \nMEMBER attendance is limited to 20 people – first come\, first served.  \n\nPlease email Anthony Leong at firstvice@gmspb.org and include the following: \nEach Member Name/Phone number (if under 18\, please include the age)/preferred email address. You can mail a check or use a Cash App like Zelle to get me payment.  Once your payment is received – your spot is secured.  I will email you the event waivers. \n  \nEvent: There is no digging involved.  You will be breaking coquina rock material down to expose calcified crystal specimens in clam shells\, rock and who knows what else. \nMaterials/Tools to bring: small chipping tools\, mid to large sledge hammers.  Buckets and EYE Protection.  Small tools to trim down the coquina to the crystal portion. Flat and pointed Chisels. Wedges. \n  \n*** All rock material you break down must be scooped up and brought to the front of the site and dumped into a pile.  We will try to have a large hand truck or wagon/cart to help with this portion. If someone wants to bring one\, let me know.  Otherwise\, you will have to just carry it in your bucket to the pile *** \n  \nThank you Club Officers/Committee heads/Shop Stewards/Show Chairpersons/Mine Managers – for your time and service.  Your spot is reserved and & entry fee is covered.  Thank you again for your service.  Still contact me so I can get you on the list.  – Anthony \n  \nField Trip is Open to Members Only
URL:https://gmspb.org/event/members-only-field-trip/
LOCATION:FL
END:VEVENT
BEGIN:VEVENT
DTSTART;TZID=America/New_York:20240929T090000
DTEND;TZID=America/New_York:20240929T150000
DTSTAMP:20260425T091228
CREATED:20240926T144012Z
LAST-MODIFIED:20240926T144349Z
UID:5765-1727600400-1727622000@gmspb.org
SUMMARY:Florida Gold Coast Gem and Mineral Society Tri-County Picnic
DESCRIPTION:TriCounty Picnic Flyer – 09292024
URL:https://gmspb.org/event/florida-gold-coast-gem-and-mineral-society-tri-county-picnic/
LOCATION:TY Park\, 3300 N. Park Rd.\, Hollywood\, FL\, 33021
END:VEVENT
BEGIN:VEVENT
DTSTART;TZID=America/New_York:20240922T080000
DTEND;TZID=America/New_York:20240922T170000
DTSTAMP:20260425T091228
CREATED:20240912T201729Z
LAST-MODIFIED:20241006T160201Z
UID:5738-1726992000-1727024400@gmspb.org
SUMMARY:Sign Up DEADLINE for GMSPB Annual Field Trip
DESCRIPTION:Hello Members! \nDon’t forget 🙂\nOur Annual Member Field Trip\,\nthe GMSPB Clam Break\nis coming up soon. \n********************************* \nCome to the Sept 19 meeting – at COX Science Center\nthis month – to learn more and see samples of what\nyou might find!  \n********************************* \nDEADLINE to sign up\nis Sunday OCTOBER 6TH \n********************************* \nProper shoes required. Closed toe. No sandals.\nNo smoking in the work area. \nEye protection needed. \nHere are more details. \nAnnual Gem Club MEMBER\nField Trip \n  \n  \nCost \n$20 per adult participant\n$10 per child\nLocation Melbourne\, FL     \n  \nMEMBER attendance is limited to 20 people – first come\, first served.  \n\nPlease email Anthony Leong at firstvice@gmspb.org and include the following: \nEach Member Name/Phone number (if under 18\, please include the age)/preferred email address. You can mail a check or use a Cash App like Zelle to get me payment.  Once your payment is received – your spot is secured.  I will email you the event waivers. \n  \nEvent: There is no digging involved.  You will be breaking coquina rock material down to expose calcified crystal specimens in clam shells\, rock and who knows what else. \nMaterials/Tools to bring: small chipping tools\, mid to large sledge hammers.  Buckets and EYE Protection.  Small tools to trim down the coquina to the crystal portion. Flat and pointed Chisels. Wedges. \n  \n*** All rock material you break down must be scooped up and brought to the front of the site and dumped into a pile.  We will try to have a large hand truck or wagon/cart to help with this portion. If someone wants to bring one\, let me know.  Otherwise\, you will have to just carry it in your bucket to the pile *** \n  \nThank you Club Officers/Committee heads/Shop Stewards/Show Chairpersons/Mine Managers – for your time and service.  Your spot is reserved and & entry fee is covered.  Thank you again for your service.  Still contact me so I can get you on the list.  – Anthony \n  \nField Trip is Open to Members Only
URL:https://gmspb.org/event/sign-up-deadline-for-gmspb-annual-field-trip/
LOCATION:Melbourne\, FL\, Melbourne\, FL\, United States
END:VEVENT
BEGIN:VEVENT
DTSTART;TZID=America/New_York:20240518T093000
DTEND;TZID=America/New_York:20240518T170000
DTSTAMP:20260425T091228
CREATED:20240419T191850Z
LAST-MODIFIED:20240419T192222Z
UID:5483-1716024600-1716051600@gmspb.org
SUMMARY:Fulgurite Dig with SEGS
DESCRIPTION:Tools: sifter\, small rake or gardening tool\, spade or shovel\, gloves \nYou will be moving soft sugar sand with your hand which is not hard\, but can get tiring just like digging a large hole at the beach. \nThere is no shade so make sure you bring lots of water and covering.  I recommend rain boots as the sand will get into everything. \nREGISTER:  Click Here
URL:https://gmspb.org/event/fulgurite-dig-with-segs/
LOCATION:Lake Wales Ridge Sand Pit\, Pit#7\, 3000 Bannon Island road\, Haines City\, FL\, 33844\, United States
END:VEVENT
BEGIN:VEVENT
DTSTART;TZID=America/New_York:20240423T180000
DTEND;TZID=America/New_York:20240423T210000
DTSTAMP:20260425T091228
CREATED:20240407T032704Z
LAST-MODIFIED:20240409T041625Z
UID:5460-1713895200-1713906000@gmspb.org
SUMMARY:Wine and Pine Event
DESCRIPTION:Learn to create a beautiful Pine Enclosed Cabochon! \nEnjoy this unique socialization opportunity! \nContact Gale Langford for REGISTRATION RSVP. \n  \n \nCost: $20 total (Gale $5 for materials\, $15 for club\, bring your own cab or buy from Arlene)
URL:https://gmspb.org/event/wine-and-pine-event/
LOCATION:Shop\, 3281 Lake Worth Road\, Lake Worth\, FL\, 33461\, United States
END:VEVENT
END:VCALENDAR