BEGIN:VCALENDAR
VERSION:2.0
PRODID:-//Gem and Mineral Society of the Palm Beaches, Inc. - ECPv6.15.16.1//NONSGML v1.0//EN
CALSCALE:GREGORIAN
METHOD:PUBLISH
X-WR-CALNAME:Gem and Mineral Society of the Palm Beaches, Inc.
X-ORIGINAL-URL:https://gmspb.org
X-WR-CALDESC:Events for Gem and Mineral Society of the Palm Beaches, Inc.
REFRESH-INTERVAL;VALUE=DURATION:PT1H
X-Robots-Tag:noindex
X-PUBLISHED-TTL:PT1H
BEGIN:VTIMEZONE
TZID:America/New_York
BEGIN:DAYLIGHT
TZOFFSETFROM:-0500
TZOFFSETTO:-0400
TZNAME:EDT
DTSTART:20250309T070000
END:DAYLIGHT
BEGIN:STANDARD
TZOFFSETFROM:-0400
TZOFFSETTO:-0500
TZNAME:EST
DTSTART:20251102T060000
END:STANDARD
BEGIN:DAYLIGHT
TZOFFSETFROM:-0500
TZOFFSETTO:-0400
TZNAME:EDT
DTSTART:20260308T070000
END:DAYLIGHT
BEGIN:STANDARD
TZOFFSETFROM:-0400
TZOFFSETTO:-0500
TZNAME:EST
DTSTART:20261101T060000
END:STANDARD
BEGIN:DAYLIGHT
TZOFFSETFROM:-0500
TZOFFSETTO:-0400
TZNAME:EDT
DTSTART:20270314T070000
END:DAYLIGHT
BEGIN:STANDARD
TZOFFSETFROM:-0400
TZOFFSETTO:-0500
TZNAME:EST
DTSTART:20271107T060000
END:STANDARD
END:VTIMEZONE
BEGIN:VEVENT
DTSTART;TZID=America/New_York:20260423T130000
DTEND;TZID=America/New_York:20260423T190000
DTSTAMP:20260423T223241
CREATED:20260403T015916Z
LAST-MODIFIED:20260403T015916Z
UID:7650-1776949200-1776970800@gmspb.org
SUMMARY:Open Shop - General Work - Sarah*
DESCRIPTION:Arlene Lazzaro 516-810-3495 \nSamantha Lazzaro  631-764-6556 \nClara Pflueger 201-566-6492 \nSarah Mayo 307-248-1687 \n3281 Lake Worth Road\, Suite B\, \nLake Worth\, FL 33461 \n  \n*Always Call the shop steward before going to the shop. Open shop sessions may be cancelled or changed due to scheduling conflicts. \n \nUse of the Work Shop and Shop Classes require Club Membership.\nIf not a member\, you may join before the Classes begin.\nJOIN NOW\n 
URL:https://gmspb.org/event/open-shop-general-work-sarah-44/
LOCATION:Shop\, 3281 Lake Worth Road\, Lake Worth\, FL\, 33461\, United States
END:VEVENT
BEGIN:VEVENT
DTSTART;TZID=America/New_York:20260420T180000
DTEND;TZID=America/New_York:20260420T210000
DTSTAMP:20260423T223241
CREATED:20260403T015103Z
LAST-MODIFIED:20260403T015103Z
UID:7642-1776708000-1776718800@gmspb.org
SUMMARY:Open Shop - General Work - Clara*
DESCRIPTION:Arlene Lazzaro 516-810-3495 \nSamantha Lazzaro  631-764-6556 \nClara Pflueger 201-566-6492 \nSarah Mayo 307-248-1687 \n3281 Lake Worth Road\, Suite B\, \nLake Worth\, FL 33461 \n  \n*Always Call the shop steward before going to the shop. Open shop sessions may be cancelled or changed due to scheduling conflicts. \n \nUse of the Work Shop and Shop Classes require Club Membership.\nIf not a member\, you may join before the Classes begin.\nJOIN NOW\n 
URL:https://gmspb.org/event/open-shop-general-work-clara-87/
LOCATION:Shop\, 3281 Lake Worth Road\, Lake Worth\, FL\, 33461\, United States
END:VEVENT
BEGIN:VEVENT
DTSTART;TZID=America/New_York:20260420T103000
DTEND;TZID=America/New_York:20260420T173000
DTSTAMP:20260423T223241
CREATED:20260403T014330Z
LAST-MODIFIED:20260403T014330Z
UID:7632-1776681000-1776706200@gmspb.org
SUMMARY:Open Shop - General Work - Samantha*
DESCRIPTION:Arlene Lazzaro 516-810-3495 \nSamantha Lazzaro  631-764-6556 \nClara Pflueger 201-566-6492 \nSarah Mayo 307-248-1687 \n3281 Lake Worth Road\, Suite B\, \nLake Worth\, FL 33461 \n  \n*Always Call the shop steward before going to the shop. Open shop sessions may be cancelled or changed due to scheduling conflicts. \n \nUse of the Work Shop and Shop Classes require Club Membership.\nIf not a member\, you may join before the Classes begin.\nJOIN NOW\n 
URL:https://gmspb.org/event/open-shop-general-work-samantha-46/
LOCATION:Shop\, 3281 Lake Worth Road\, Lake Worth\, FL\, 33461\, United States
ORGANIZER;CN="Samantha Lazzaro":MAILTO:crystalgrace2006@yahoo.com
END:VEVENT
BEGIN:VEVENT
DTSTART;TZID=America/New_York:20260419T080000
DTEND;TZID=America/New_York:20260419T160000
DTSTAMP:20260423T223241
CREATED:20260322T023257Z
LAST-MODIFIED:20260322T023747Z
UID:7609-1776585600-1776614400@gmspb.org
SUMMARY:CFMGS Rock\, Mineral\, Gem and Jewelry Show
DESCRIPTION:
URL:https://gmspb.org/event/cfmgs-rock-mineral-gem-and-jewelry-show-2/
LOCATION:Florida National Guard Armory\, 2809 S Fern Creek Ave.\, Orlando\, FL\, 32806
ORGANIZER;CN="Central Florida Gem and Mineral Society":MAILTO:cfgmsociety@gmail.com
END:VEVENT
BEGIN:VEVENT
DTSTART;TZID=America/New_York:20260418T090000
DTEND;TZID=America/New_York:20260418T170000
DTSTAMP:20260423T223241
CREATED:20260322T021910Z
LAST-MODIFIED:20260322T023504Z
UID:7605-1776502800-1776531600@gmspb.org
SUMMARY:CFMGS Rock\, Mineral\, Gem and Jewelry Show
DESCRIPTION:
URL:https://gmspb.org/event/cfmgs-rock-mineral-gem-and-jewelry-show/
LOCATION:Florida National Guard Armory\, 2809 S Fern Creek Ave.\, Orlando\, FL\, 32806
ORGANIZER;CN="Central Florida Gem and Mineral Society":MAILTO:cfgmsociety@gmail.com
END:VEVENT
BEGIN:VEVENT
DTSTART;TZID=America/New_York:20260417T180000
DTEND;TZID=America/New_York:20260417T210000
DTSTAMP:20260423T223241
CREATED:20260403T020758Z
LAST-MODIFIED:20260403T020758Z
UID:7656-1776448800-1776459600@gmspb.org
SUMMARY:Open Shop - General Work - Clara*
DESCRIPTION:Arlene Lazzaro 516-810-3495 \nSamantha Lazzaro  631-764-6556 \nClara Pflueger 201-566-6492 \nSarah Mayo 307-248-1687 \n3281 Lake Worth Road\, Suite B\, \nLake Worth\, FL 33461 \n  \n*Always Call the shop steward before going to the shop. Open shop sessions may be cancelled or changed due to scheduling conflicts. \n \nUse of the Work Shop and Shop Classes require Club Membership.\nIf not a member\, you may join before the Classes begin.\nJOIN NOW\n 
URL:https://gmspb.org/event/open-shop-general-work-clara-90/
LOCATION:Shop\, 3281 Lake Worth Road\, Lake Worth\, FL\, 33461\, United States
END:VEVENT
BEGIN:VEVENT
DTSTART;TZID=America/New_York:20260416T190000
DTEND;TZID=America/New_York:20260416T203000
DTSTAMP:20260423T223241
CREATED:20260208T180225Z
LAST-MODIFIED:20260410T141813Z
UID:7421-1776366000-1776371400@gmspb.org
SUMMARY:April Monthly Membership Meeting
DESCRIPTION:“Walking in the Footprints\nof Giant Dinosaurs”\n  \n\nPresented by Club Member\nAntonella Cassia\n\nCome learn about the amazing field trip\norganized by the GSA to the San Antonio Region\nwith its well preserved and HUGE dinosaur tracks!\n…\n**********\nWHERE: inside the STEM Bldg\n4800 Dreher Trail N\n(across from the museum)\n\nROCK HOUND CHALLENGE\nfor APRIL\nwill be your best\nPASTEL\nGEM or SPECIMEN\n\nThe prize for the winner will be\n\nthis beautiful Amethyst Flower specimen\nand Herkimer Diamond!\n___________\n\n\n\nPlease BRING a SNACK to SHARE\nDOOR PRIZES\n SILENT AUCTION\nSHOW ‘N TELL\n\n____________\nMEMBERSHIP RENEWALS*\nSingle – $30.00 Family – $50.00 ——————-
URL:https://gmspb.org/event/april-monthly-membership-meeting/
LOCATION:Cox-Multi-Purpose Center\, 4800 Dreher Trail North\, West Palm Beach\, FL\, 33405\, United States
END:VEVENT
BEGIN:VEVENT
DTSTART;TZID=America/New_York:20260416T130000
DTEND;TZID=America/New_York:20260416T180000
DTSTAMP:20260423T223241
CREATED:20260403T015813Z
LAST-MODIFIED:20260403T015813Z
UID:7648-1776344400-1776362400@gmspb.org
SUMMARY:Open Shop - General Work - Sarah*
DESCRIPTION:Arlene Lazzaro 516-810-3495 \nSamantha Lazzaro  631-764-6556 \nClara Pflueger 201-566-6492 \nSarah Mayo 307-248-1687 \n3281 Lake Worth Road\, Suite B\, \nLake Worth\, FL 33461 \n  \n*Always Call the shop steward before going to the shop. Open shop sessions may be cancelled or changed due to scheduling conflicts. \n \nUse of the Work Shop and Shop Classes require Club Membership.\nIf not a member\, you may join before the Classes begin.\nJOIN NOW\n 
URL:https://gmspb.org/event/open-shop-general-work-sarah-43/
LOCATION:Shop\, 3281 Lake Worth Road\, Lake Worth\, FL\, 33461\, United States
END:VEVENT
BEGIN:VEVENT
DTSTART;TZID=America/New_York:20260413T180000
DTEND;TZID=America/New_York:20260413T210000
DTSTAMP:20260423T223241
CREATED:20260403T014842Z
LAST-MODIFIED:20260403T014842Z
UID:7640-1776103200-1776114000@gmspb.org
SUMMARY:Open Shop - General Work - Clara*
DESCRIPTION:Arlene Lazzaro 516-810-3495 \nSamantha Lazzaro  631-764-6556 \nClara Pflueger 201-566-6492 \nSarah Mayo 307-248-1687 \n3281 Lake Worth Road\, Suite B\, \nLake Worth\, FL 33461 \n  \n*Always Call the shop steward before going to the shop. Open shop sessions may be cancelled or changed due to scheduling conflicts. \n \nUse of the Work Shop and Shop Classes require Club Membership.\nIf not a member\, you may join before the Classes begin.\nJOIN NOW\n 
URL:https://gmspb.org/event/open-shop-general-work-clara-86/
LOCATION:Shop\, 3281 Lake Worth Road\, Lake Worth\, FL\, 33461\, United States
END:VEVENT
BEGIN:VEVENT
DTSTART;TZID=America/New_York:20260413T103000
DTEND;TZID=America/New_York:20260413T173000
DTSTAMP:20260423T223241
CREATED:20260403T014223Z
LAST-MODIFIED:20260403T014223Z
UID:7630-1776076200-1776101400@gmspb.org
SUMMARY:Open Shop - General Work - Samantha*
DESCRIPTION:Arlene Lazzaro 516-810-3495 \nSamantha Lazzaro  631-764-6556 \nClara Pflueger 201-566-6492 \nSarah Mayo 307-248-1687 \n3281 Lake Worth Road\, Suite B\, \nLake Worth\, FL 33461 \n  \n*Always Call the shop steward before going to the shop. Open shop sessions may be cancelled or changed due to scheduling conflicts. \n \nUse of the Work Shop and Shop Classes require Club Membership.\nIf not a member\, you may join before the Classes begin.\nJOIN NOW\n 
URL:https://gmspb.org/event/open-shop-general-work-samantha-45/
LOCATION:Shop\, 3281 Lake Worth Road\, Lake Worth\, FL\, 33461\, United States
ORGANIZER;CN="Samantha Lazzaro":MAILTO:crystalgrace2006@yahoo.com
END:VEVENT
BEGIN:VEVENT
DTSTART;TZID=America/New_York:20260411T103000
DTEND;TZID=America/New_York:20260411T173000
DTSTAMP:20260423T223241
CREATED:20260403T021322Z
LAST-MODIFIED:20260403T021322Z
UID:7663-1775903400-1775928600@gmspb.org
SUMMARY:Open Shop - General Work - Samantha*
DESCRIPTION:Arlene Lazzaro 516-810-3495 \nSamantha Lazzaro  631-764-6556 \nClara Pflueger 201-566-6492 \nSarah Mayo 307-248-1687 \n3281 Lake Worth Road\, Suite B\, \nLake Worth\, FL 33461 \n  \n*Always Call the shop steward before going to the shop. Open shop sessions may be cancelled or changed due to scheduling conflicts. \n \nUse of the Work Shop and Shop Classes require Club Membership.\nIf not a member\, you may join before the Classes begin.\nJOIN NOW\n 
URL:https://gmspb.org/event/open-shop-general-work-samantha-49/
LOCATION:Shop\, 3281 Lake Worth Road\, Lake Worth\, FL\, 33461\, United States
ORGANIZER;CN="Samantha Lazzaro":MAILTO:crystalgrace2006@yahoo.com
END:VEVENT
BEGIN:VEVENT
DTSTART;TZID=America/New_York:20260410T180000
DTEND;TZID=America/New_York:20260410T210000
DTSTAMP:20260423T223241
CREATED:20260403T020705Z
LAST-MODIFIED:20260403T020705Z
UID:7654-1775844000-1775854800@gmspb.org
SUMMARY:Open Shop - General Work - Clara*
DESCRIPTION:Arlene Lazzaro 516-810-3495 \nSamantha Lazzaro  631-764-6556 \nClara Pflueger 201-566-6492 \nSarah Mayo 307-248-1687 \n3281 Lake Worth Road\, Suite B\, \nLake Worth\, FL 33461 \n  \n*Always Call the shop steward before going to the shop. Open shop sessions may be cancelled or changed due to scheduling conflicts. \n \nUse of the Work Shop and Shop Classes require Club Membership.\nIf not a member\, you may join before the Classes begin.\nJOIN NOW\n 
URL:https://gmspb.org/event/open-shop-general-work-clara-89/
LOCATION:Shop\, 3281 Lake Worth Road\, Lake Worth\, FL\, 33461\, United States
END:VEVENT
BEGIN:VEVENT
DTSTART;TZID=America/New_York:20260409T130000
DTEND;TZID=America/New_York:20260409T190000
DTSTAMP:20260423T223241
CREATED:20260403T015702Z
LAST-MODIFIED:20260403T015702Z
UID:7646-1775739600-1775761200@gmspb.org
SUMMARY:Open Shop - General Work - Sarah*
DESCRIPTION:Arlene Lazzaro 516-810-3495 \nSamantha Lazzaro  631-764-6556 \nClara Pflueger 201-566-6492 \nSarah Mayo 307-248-1687 \n3281 Lake Worth Road\, Suite B\, \nLake Worth\, FL 33461 \n  \n*Always Call the shop steward before going to the shop. Open shop sessions may be cancelled or changed due to scheduling conflicts. \n \nUse of the Work Shop and Shop Classes require Club Membership.\nIf not a member\, you may join before the Classes begin.\nJOIN NOW\n 
URL:https://gmspb.org/event/open-shop-general-work-sarah-42/
LOCATION:Shop\, 3281 Lake Worth Road\, Lake Worth\, FL\, 33461\, United States
END:VEVENT
BEGIN:VEVENT
DTSTART;TZID=America/New_York:20260406T180000
DTEND;TZID=America/New_York:20260406T210000
DTSTAMP:20260423T223241
CREATED:20260403T014728Z
LAST-MODIFIED:20260403T014728Z
UID:7638-1775498400-1775509200@gmspb.org
SUMMARY:Open Shop - General Work - Clara*
DESCRIPTION:Arlene Lazzaro 516-810-3495 \nSamantha Lazzaro  631-764-6556 \nClara Pflueger 201-566-6492 \nSarah Mayo 307-248-1687 \n3281 Lake Worth Road\, Suite B\, \nLake Worth\, FL 33461 \n  \n*Always Call the shop steward before going to the shop. Open shop sessions may be cancelled or changed due to scheduling conflicts. \n \nUse of the Work Shop and Shop Classes require Club Membership.\nIf not a member\, you may join before the Classes begin.\nJOIN NOW\n 
URL:https://gmspb.org/event/open-shop-general-work-clara-85/
LOCATION:Shop\, 3281 Lake Worth Road\, Lake Worth\, FL\, 33461\, United States
END:VEVENT
BEGIN:VEVENT
DTSTART;TZID=America/New_York:20260406T103000
DTEND;TZID=America/New_York:20260406T173000
DTSTAMP:20260423T223241
CREATED:20260403T014118Z
LAST-MODIFIED:20260403T014118Z
UID:7628-1775471400-1775496600@gmspb.org
SUMMARY:Open Shop - General Work - Samantha*
DESCRIPTION:Arlene Lazzaro 516-810-3495 \nSamantha Lazzaro  631-764-6556 \nClara Pflueger 201-566-6492 \nSarah Mayo 307-248-1687 \n3281 Lake Worth Road\, Suite B\, \nLake Worth\, FL 33461 \n  \n*Always Call the shop steward before going to the shop. Open shop sessions may be cancelled or changed due to scheduling conflicts. \n \nUse of the Work Shop and Shop Classes require Club Membership.\nIf not a member\, you may join before the Classes begin.\nJOIN NOW\n 
URL:https://gmspb.org/event/open-shop-general-work-samantha-44/
LOCATION:Shop\, 3281 Lake Worth Road\, Lake Worth\, FL\, 33461\, United States
ORGANIZER;CN="Samantha Lazzaro":MAILTO:crystalgrace2006@yahoo.com
END:VEVENT
BEGIN:VEVENT
DTSTART;TZID=America/New_York:20260403T180000
DTEND;TZID=America/New_York:20260403T210000
DTSTAMP:20260423T223241
CREATED:20260309T045224Z
LAST-MODIFIED:20260309T045224Z
UID:7481-1775239200-1775250000@gmspb.org
SUMMARY:Open Shop - General Work - Clara*
DESCRIPTION:Arlene Lazzaro 516-810-3495 \nSamantha Lazzaro  631-764-6556 \nClara Pflueger 201-566-6492 \nSarah Mayo 307-248-1687 \n3281 Lake Worth Road\, Suite B\, \nLake Worth\, FL 33461 \n  \n*Always Call the shop steward before going to the shop. Open shop sessions may be cancelled or changed due to scheduling conflicts. \n \nUse of the Work Shop and Shop Classes require Club Membership.\nIf not a member\, you may join before the Classes begin.\nJOIN NOW\n 
URL:https://gmspb.org/event/open-shop-general-work-clara-84/
LOCATION:Shop\, 3281 Lake Worth Road\, Lake Worth\, FL\, 33461\, United States
END:VEVENT
BEGIN:VEVENT
DTSTART;TZID=America/New_York:20260402T130000
DTEND;TZID=America/New_York:20260402T190000
DTSTAMP:20260423T223241
CREATED:20260309T050940Z
LAST-MODIFIED:20260309T050940Z
UID:7508-1775134800-1775156400@gmspb.org
SUMMARY:Open Shop - General Work - Sarah*
DESCRIPTION:Arlene Lazzaro 516-810-3495 \nSamantha Lazzaro  631-764-6556 \nClara Pflueger 201-566-6492 \nSarah Mayo 307-248-1687 \n3281 Lake Worth Road\, Suite B\, \nLake Worth\, FL 33461 \n  \n*Always Call the shop steward before going to the shop. Open shop sessions may be cancelled or changed due to scheduling conflicts. \n \nUse of the Work Shop and Shop Classes require Club Membership.\nIf not a member\, you may join before the Classes begin.\nJOIN NOW\n 
URL:https://gmspb.org/event/open-shop-general-work-sarah-41/
LOCATION:Shop\, 3281 Lake Worth Road\, Lake Worth\, FL\, 33461\, United States
END:VEVENT
BEGIN:VEVENT
DTSTART;TZID=America/New_York:20260330T180000
DTEND;TZID=America/New_York:20260330T210000
DTSTAMP:20260423T223241
CREATED:20260309T044142Z
LAST-MODIFIED:20260309T044142Z
UID:7469-1774893600-1774904400@gmspb.org
SUMMARY:Open Shop - General Work - Clara*
DESCRIPTION:Arlene Lazzaro 516-810-3495 \nSamantha Lazzaro  631-764-6556 \nClara Pflueger 201-566-6492 \nSarah Mayo 307-248-1687 \n3281 Lake Worth Road\, Suite B\, \nLake Worth\, FL 33461 \n  \n*Always Call the shop steward before going to the shop. Open shop sessions may be cancelled or changed due to scheduling conflicts. \n \nUse of the Work Shop and Shop Classes require Club Membership.\nIf not a member\, you may join before the Classes begin.\nJOIN NOW\n 
URL:https://gmspb.org/event/open-shop-general-work-clara-79/
LOCATION:Shop\, 3281 Lake Worth Road\, Lake Worth\, FL\, 33461\, United States
END:VEVENT
BEGIN:VEVENT
DTSTART;TZID=America/New_York:20260330T103000
DTEND;TZID=America/New_York:20260330T173000
DTSTAMP:20260423T223241
CREATED:20260309T045904Z
LAST-MODIFIED:20260309T050004Z
UID:7493-1774866600-1774891800@gmspb.org
SUMMARY:Open Shop - General Work - Samantha*
DESCRIPTION:Arlene Lazzaro 516-810-3495 \nSamantha Lazzaro  631-764-6556 \nClara Pflueger 201-566-6492 \nSarah Mayo 307-248-1687 \n3281 Lake Worth Road\, Suite B\, \nLake Worth\, FL 33461 \n  \n*Always Call the shop steward before going to the shop. Open shop sessions may be cancelled or changed due to scheduling conflicts. \n \nUse of the Work Shop and Shop Classes require Club Membership.\nIf not a member\, you may join before the Classes begin.\nJOIN NOW\n 
URL:https://gmspb.org/event/open-shop-general-work-samantha-42/
LOCATION:Shop\, 3281 Lake Worth Road\, Lake Worth\, FL\, 33461\, United States
ORGANIZER;CN="Samantha Lazzaro":MAILTO:crystalgrace2006@yahoo.com
END:VEVENT
BEGIN:VEVENT
DTSTART;TZID=America/New_York:20260329T140000
DTEND;TZID=America/New_York:20260329T150000
DTSTAMP:20260423T223241
CREATED:20260313T162057Z
LAST-MODIFIED:20260313T163828Z
UID:7551-1774792800-1774796400@gmspb.org
SUMMARY:Boynton Beach Library Welcome Alan Meltzer: Fossil Gemstones
DESCRIPTION:“Fossil Gemstones“\nPresented by\n \nGem and Mineral Society\nof the Palm Beach Club Member\nAlan Meltzer\n    \nAlan will be talking about 210 million year old petrified wood from Arizona and 170 million year old dinosaur bone from Colorado and Utah\, both are examples of how fossils turn into colorful gemstones.\nContact Cathy Burns to Register to Attend:\n561-734-5556\nBurnsM@pbclibrary.org
URL:https://gmspb.org/event/boynton-beach-library-welcome-alan-meltzer-fossil-gemstones/
LOCATION:West Boynton Beach Branch Library\, 9451 Jog Road\, Boynton Beach\, FL\, 33437\, United States
ORGANIZER;CN="Cathy Burns":MAILTO:BurnsM@pbclibrary.org
END:VEVENT
BEGIN:VEVENT
DTSTART;TZID=America/New_York:20260328T100000
DTEND;TZID=America/New_York:20260328T170000
DTSTAMP:20260423T223241
CREATED:20260309T151455Z
LAST-MODIFIED:20260309T151455Z
UID:7515-1774692000-1774717200@gmspb.org
SUMMARY:Metal Etching Workshop
DESCRIPTION:Metal Etching Workshop\n \nby Samantha Lazzaro \n \nDate: March 28th\, 10:00am – 5:00pm \n \nPrint any image you can find on the web and create a heat transfer to metal! \nMake pendants\, cuffs\, texture plates for rolling mill. \n$100 all day class. Materials included. \nContact Samantha for more information : 631-764-6556
URL:https://gmspb.org/event/metal-etching-workshop/
LOCATION:Shop\, 3281 Lake Worth Road\, Lake Worth\, FL\, 33461\, United States
ORGANIZER;CN="Samantha Lazzaro":MAILTO:crystalgrace2006@yahoo.com
END:VEVENT
BEGIN:VEVENT
DTSTART;TZID=America/New_York:20260327T180000
DTEND;TZID=America/New_York:20260327T210000
DTSTAMP:20260423T223241
CREATED:20260309T044908Z
LAST-MODIFIED:20260309T044908Z
UID:7478-1774634400-1774645200@gmspb.org
SUMMARY:Open Shop - General Work - Clara*
DESCRIPTION:Arlene Lazzaro 516-810-3495 \nSamantha Lazzaro  631-764-6556 \nClara Pflueger 201-566-6492 \nSarah Mayo 307-248-1687 \n3281 Lake Worth Road\, Suite B\, \nLake Worth\, FL 33461 \n  \n*Always Call the shop steward before going to the shop. Open shop sessions may be cancelled or changed due to scheduling conflicts. \n \nUse of the Work Shop and Shop Classes require Club Membership.\nIf not a member\, you may join before the Classes begin.\nJOIN NOW\n 
URL:https://gmspb.org/event/open-shop-general-work-clara-83/
LOCATION:Shop\, 3281 Lake Worth Road\, Lake Worth\, FL\, 33461\, United States
END:VEVENT
BEGIN:VEVENT
DTSTART;TZID=America/New_York:20260326T130000
DTEND;TZID=America/New_York:20260326T190000
DTSTAMP:20260423T223241
CREATED:20260309T050830Z
LAST-MODIFIED:20260309T050830Z
UID:7506-1774530000-1774551600@gmspb.org
SUMMARY:Open Shop - General Work - Sarah*
DESCRIPTION:Arlene Lazzaro 516-810-3495 \nSamantha Lazzaro  631-764-6556 \nClara Pflueger 201-566-6492 \nSarah Mayo 307-248-1687 \n3281 Lake Worth Road\, Suite B\, \nLake Worth\, FL 33461 \n  \n*Always Call the shop steward before going to the shop. Open shop sessions may be cancelled or changed due to scheduling conflicts. \n \nUse of the Work Shop and Shop Classes require Club Membership.\nIf not a member\, you may join before the Classes begin.\nJOIN NOW\n 
URL:https://gmspb.org/event/open-shop-general-work-sarah-40/
LOCATION:Shop\, 3281 Lake Worth Road\, Lake Worth\, FL\, 33461\, United States
END:VEVENT
BEGIN:VEVENT
DTSTART;TZID=America/New_York:20260323T180000
DTEND;TZID=America/New_York:20260323T210000
DTSTAMP:20260423T223241
CREATED:20260309T044046Z
LAST-MODIFIED:20260309T044046Z
UID:7467-1774288800-1774299600@gmspb.org
SUMMARY:Open Shop - General Work - Clara*
DESCRIPTION:Arlene Lazzaro 516-810-3495 \nSamantha Lazzaro  631-764-6556 \nClara Pflueger 201-566-6492 \nSarah Mayo 307-248-1687 \n3281 Lake Worth Road\, Suite B\, \nLake Worth\, FL 33461 \n  \n*Always Call the shop steward before going to the shop. Open shop sessions may be cancelled or changed due to scheduling conflicts. \n \nUse of the Work Shop and Shop Classes require Club Membership.\nIf not a member\, you may join before the Classes begin.\nJOIN NOW\n 
URL:https://gmspb.org/event/open-shop-general-work-clara-78/
LOCATION:Shop\, 3281 Lake Worth Road\, Lake Worth\, FL\, 33461\, United States
END:VEVENT
BEGIN:VEVENT
DTSTART;TZID=America/New_York:20260323T103000
DTEND;TZID=America/New_York:20260323T173000
DTSTAMP:20260423T223241
CREATED:20260309T045747Z
LAST-MODIFIED:20260309T045747Z
UID:7491-1774261800-1774287000@gmspb.org
SUMMARY:Open Shop - General Work - Samantha*
DESCRIPTION:Arlene Lazzaro 516-810-3495 \nSamantha Lazzaro  631-764-6556 \nClara Pflueger 201-566-6492 \nSarah Mayo 307-248-1687 \n3281 Lake Worth Road\, Suite B\, \nLake Worth\, FL 33461 \n  \n*Always Call the shop steward before going to the shop. Open shop sessions may be cancelled or changed due to scheduling conflicts. \n \nUse of the Work Shop and Shop Classes require Club Membership.\nIf not a member\, you may join before the Classes begin.\nJOIN NOW\n 
URL:https://gmspb.org/event/open-shop-general-work-samantha-41/
LOCATION:Shop\, 3281 Lake Worth Road\, Lake Worth\, FL\, 33461\, United States
ORGANIZER;CN="Samantha Lazzaro":MAILTO:crystalgrace2006@yahoo.com
END:VEVENT
BEGIN:VEVENT
DTSTART;TZID=America/New_York:20260322T100000
DTEND;TZID=America/New_York:20260322T160000
DTSTAMP:20260423T223241
CREATED:20260202T051529Z
LAST-MODIFIED:20260202T051529Z
UID:7348-1774173600-1774195200@gmspb.org
SUMMARY:2026 Tampa Bay Fossil Fest
DESCRIPTION:
URL:https://gmspb.org/event/2026-tampa-bay-fossil-fest-2/
LOCATION:Tampa Bay Florida State Fairgrounds\, 4800 US Hwy 301\, Tampa\, FL\, 33610\, United States
END:VEVENT
BEGIN:VEVENT
DTSTART;TZID=America/New_York:20260321T090000
DTEND;TZID=America/New_York:20260321T170000
DTSTAMP:20260423T223241
CREATED:20260202T051409Z
LAST-MODIFIED:20260202T051409Z
UID:7342-1774083600-1774112400@gmspb.org
SUMMARY:2026 Tampa Bay Fossil Fest
DESCRIPTION:
URL:https://gmspb.org/event/2026-tampa-bay-fossil-fest/
LOCATION:Tampa Bay Florida State Fairgrounds\, 4800 US Hwy 301\, Tampa\, FL\, 33610\, United States
END:VEVENT
BEGIN:VEVENT
DTSTART;TZID=America/New_York:20260320T180000
DTEND;TZID=America/New_York:20260320T210000
DTSTAMP:20260423T223241
CREATED:20260309T044807Z
LAST-MODIFIED:20260309T044807Z
UID:7476-1774029600-1774040400@gmspb.org
SUMMARY:Open Shop - General Work - Clara*
DESCRIPTION:Arlene Lazzaro 516-810-3495 \nSamantha Lazzaro  631-764-6556 \nClara Pflueger 201-566-6492 \nSarah Mayo 307-248-1687 \n3281 Lake Worth Road\, Suite B\, \nLake Worth\, FL 33461 \n  \n*Always Call the shop steward before going to the shop. Open shop sessions may be cancelled or changed due to scheduling conflicts. \n \nUse of the Work Shop and Shop Classes require Club Membership.\nIf not a member\, you may join before the Classes begin.\nJOIN NOW\n 
URL:https://gmspb.org/event/open-shop-general-work-clara-82/
LOCATION:Shop\, 3281 Lake Worth Road\, Lake Worth\, FL\, 33461\, United States
END:VEVENT
BEGIN:VEVENT
DTSTART;TZID=America/New_York:20260319T190000
DTEND;TZID=America/New_York:20260319T203000
DTSTAMP:20260423T223241
CREATED:20260208T175906Z
LAST-MODIFIED:20260308T173911Z
UID:7419-1773946800-1773952200@gmspb.org
SUMMARY:March Monthly Membership Meeting
DESCRIPTION:“Agates in Their Many Forms“\nPresented by\n \nClub Member Alan Meltzer\n  \n\n  \n**********\nWHERE: inside the STEM Bldg\n4800 Dreher Trail N\n(across from the museum)\n\nROCK HOUND CHALLENGE\nfor MARCH\nwill be your best\n…GREEN…\nGEM or SPECIMEN\n\nThe prize for the winner\nwill be TBD!\n___________\n\n\n\nPlease BRING a SNACK to SHARE\nDOOR PRIZES\n SILENT AUCTION\nSHOW ‘N TELL\n\n____________\nMEMBERSHIP RENEWALS*\nSingle – $30.00 Family – $50.00 ——————-\n\n____________
URL:https://gmspb.org/event/march-monthly-membership-meeting/
LOCATION:Cox-Multi-Purpose Center\, 4800 Dreher Trail North\, West Palm Beach\, FL\, 33405\, United States
END:VEVENT
BEGIN:VEVENT
DTSTART;TZID=America/New_York:20260319T130000
DTEND;TZID=America/New_York:20260319T180000
DTSTAMP:20260423T223241
CREATED:20260309T050727Z
LAST-MODIFIED:20260309T050727Z
UID:7504-1773925200-1773943200@gmspb.org
SUMMARY:Open Shop - General Work - Sarah*
DESCRIPTION:Arlene Lazzaro 516-810-3495 \nSamantha Lazzaro  631-764-6556 \nClara Pflueger 201-566-6492 \nSarah Mayo 307-248-1687 \n3281 Lake Worth Road\, Suite B\, \nLake Worth\, FL 33461 \n  \n*Always Call the shop steward before going to the shop. Open shop sessions may be cancelled or changed due to scheduling conflicts. \n \nUse of the Work Shop and Shop Classes require Club Membership.\nIf not a member\, you may join before the Classes begin.\nJOIN NOW\n 
URL:https://gmspb.org/event/open-shop-general-work-sarah-39/
LOCATION:Shop\, 3281 Lake Worth Road\, Lake Worth\, FL\, 33461\, United States
END:VEVENT
END:VCALENDAR