BEGIN:VCALENDAR
VERSION:2.0
PRODID:-//Gem and Mineral Society of the Palm Beaches, Inc. - ECPv6.15.16.1//NONSGML v1.0//EN
CALSCALE:GREGORIAN
METHOD:PUBLISH
X-ORIGINAL-URL:https://gmspb.org
X-WR-CALDESC:Events for Gem and Mineral Society of the Palm Beaches, Inc.
REFRESH-INTERVAL;VALUE=DURATION:PT1H
X-Robots-Tag:noindex
X-PUBLISHED-TTL:PT1H
BEGIN:VTIMEZONE
TZID:America/New_York
BEGIN:DAYLIGHT
TZOFFSETFROM:-0500
TZOFFSETTO:-0400
TZNAME:EDT
DTSTART:20250309T070000
END:DAYLIGHT
BEGIN:STANDARD
TZOFFSETFROM:-0400
TZOFFSETTO:-0500
TZNAME:EST
DTSTART:20251102T060000
END:STANDARD
BEGIN:DAYLIGHT
TZOFFSETFROM:-0500
TZOFFSETTO:-0400
TZNAME:EDT
DTSTART:20260308T070000
END:DAYLIGHT
BEGIN:STANDARD
TZOFFSETFROM:-0400
TZOFFSETTO:-0500
TZNAME:EST
DTSTART:20261101T060000
END:STANDARD
BEGIN:DAYLIGHT
TZOFFSETFROM:-0500
TZOFFSETTO:-0400
TZNAME:EDT
DTSTART:20270314T070000
END:DAYLIGHT
BEGIN:STANDARD
TZOFFSETFROM:-0400
TZOFFSETTO:-0500
TZNAME:EST
DTSTART:20271107T060000
END:STANDARD
END:VTIMEZONE
BEGIN:VEVENT
DTSTART;TZID=America/New_York:20260501T180000
DTEND;TZID=America/New_York:20260501T210000
DTSTAMP:20260423T183336
CREATED:20260403T021029Z
LAST-MODIFIED:20260403T021029Z
UID:7660-1777658400-1777669200@gmspb.org
SUMMARY:Open Shop - General Work - Clara*
DESCRIPTION:Arlene Lazzaro 516-810-3495 \nSamantha Lazzaro  631-764-6556 \nClara Pflueger 201-566-6492 \nSarah Mayo 307-248-1687 \n3281 Lake Worth Road\, Suite B\, \nLake Worth\, FL 33461 \n  \n*Always Call the shop steward before going to the shop. Open shop sessions may be cancelled or changed due to scheduling conflicts. \n \nUse of the Work Shop and Shop Classes require Club Membership.\nIf not a member\, you may join before the Classes begin.\nJOIN NOW\n 
URL:https://gmspb.org/event/open-shop-general-work-clara-92/
LOCATION:Shop\, 3281 Lake Worth Road\, Lake Worth\, FL\, 33461\, United States
END:VEVENT
BEGIN:VEVENT
DTSTART;TZID=America/New_York:20260504T103000
DTEND;TZID=America/New_York:20260504T173000
DTSTAMP:20260423T183336
CREATED:20260403T014541Z
LAST-MODIFIED:20260403T014541Z
UID:7636-1777890600-1777915800@gmspb.org
SUMMARY:Open Shop - General Work - Samantha*
DESCRIPTION:Arlene Lazzaro 516-810-3495 \nSamantha Lazzaro  631-764-6556 \nClara Pflueger 201-566-6492 \nSarah Mayo 307-248-1687 \n3281 Lake Worth Road\, Suite B\, \nLake Worth\, FL 33461 \n  \n*Always Call the shop steward before going to the shop. Open shop sessions may be cancelled or changed due to scheduling conflicts. \n \nUse of the Work Shop and Shop Classes require Club Membership.\nIf not a member\, you may join before the Classes begin.\nJOIN NOW\n 
URL:https://gmspb.org/event/open-shop-general-work-samantha-48/
LOCATION:Shop\, 3281 Lake Worth Road\, Lake Worth\, FL\, 33461\, United States
ORGANIZER;CN="Samantha Lazzaro":MAILTO:crystalgrace2006@yahoo.com
END:VEVENT
BEGIN:VEVENT
DTSTART;TZID=America/New_York:20260507T173000
DTEND;TZID=America/New_York:20260507T210000
DTSTAMP:20260423T183336
CREATED:20260313T155952Z
LAST-MODIFIED:20260313T155952Z
UID:7542-1778175000-1778187600@gmspb.org
SUMMARY:Painting Rock Garden Mandalas Workshop
DESCRIPTION:Painting Rock Garden Mandalas Workshop \nwith Sarah Mayo \nMay 7th at the GMSPR Workshop \n \nLearn to Paint Mandalas on your favorite garden rocks. \nClass fee $20 \nContact Sarah for more information : 307-248-1687
URL:https://gmspb.org/event/painting-rock-garden-mandalas-workshop/
LOCATION:Shop\, 3281 Lake Worth Road\, Lake Worth\, FL\, 33461\, United States
END:VEVENT
BEGIN:VEVENT
DTSTART;TZID=America/New_York:20260521T190000
DTEND;TZID=America/New_York:20260521T203000
DTSTAMP:20260423T183336
CREATED:20260208T180531Z
LAST-MODIFIED:20260208T180531Z
UID:7423-1779390000-1779395400@gmspb.org
SUMMARY:May Monthly Membership Meeting
DESCRIPTION:“TBD“\n\nPresented by\nClub Member TBD\n\n  \n..\n**********\nWHERE: inside the STEM Bldg\n4800 Dreher Trail N\n(across from the museum)\n\nROCK HOUND CHALLENGE\nfor MAY\nwill be your best\n… …\nGEM or SPECIMEN\n\nThe prize for the winner will be\n\n!\n___________\n\n\n\nPlease BRING a SNACK to SHARE\nDOOR PRIZES\n SILENT AUCTION\nSHOW ‘N TELL\n\n____________\nMEMBERSHIP RENEWALS*\nSingle – $30.00 Family – $50.00 ——————-
URL:https://gmspb.org/event/may-monthly-membership-meeting/
LOCATION:Cox-Multi-Purpose Center\, 4800 Dreher Trail North\, West Palm Beach\, FL\, 33405\, United States
END:VEVENT
BEGIN:VEVENT
DTSTART;TZID=America/New_York:20260604T173000
DTEND;TZID=America/New_York:20260604T210000
DTSTAMP:20260423T183336
CREATED:20260313T160623Z
LAST-MODIFIED:20260313T160656Z
UID:7548-1780594200-1780606800@gmspb.org
SUMMARY:Rock Wrapping Workshop
DESCRIPTION:Rock Wrapping Workshop \nwith Sarah Mayo \nJune 4th at the GMSPR Workshop \n \nLearn the art of decorative wrapping for your favorite rocks. \nClass fee $20 \nContact Sarah for more information : 307-248-1687
URL:https://gmspb.org/event/rock-wrapping-workshop/
LOCATION:Shop\, 3281 Lake Worth Road\, Lake Worth\, FL\, 33461\, United States
END:VEVENT
BEGIN:VEVENT
DTSTART;TZID=America/New_York:20260618T190000
DTEND;TZID=America/New_York:20260618T203000
DTSTAMP:20260423T183336
CREATED:20260208T180808Z
LAST-MODIFIED:20260208T180808Z
UID:7425-1781809200-1781814600@gmspb.org
SUMMARY:June Monthly Membership Meeting
DESCRIPTION:“Annual Latin Fiesta\nand Auction Event“\n\nPresented by\nthe Gem and Mineral Society of the Palm Beaches\n\n  \n..\n**********\nWHERE: inside the STEM Bldg\n4800 Dreher Trail N\n(across from the museum)\n\nROCK HOUND CHALLENGE\nfor JUNE\nwill be your best\n… …\nGEM or SPECIMEN\n\nThe prize for the winner will be\n\n!\n___________\n\n\n\nPlease BRING a SNACK to SHARE\nDOOR PRIZES\n SILENT AUCTION\nSHOW ‘N TELL\n\n____________\nMEMBERSHIP RENEWALS*\nSingle – $30.00 Family – $50.00 ——————-
URL:https://gmspb.org/event/june-monthly-membership-meeting/
LOCATION:Cox-Multi-Purpose Center\, 4800 Dreher Trail North\, West Palm Beach\, FL\, 33405\, United States
END:VEVENT
BEGIN:VEVENT
DTSTART;TZID=America/New_York:20261121T090000
DTEND;TZID=America/New_York:20261121T180000
DTSTAMP:20260423T183336
CREATED:20241230T015211Z
LAST-MODIFIED:20260412T214136Z
UID:6192-1795251600-1795284000@gmspb.org
SUMMARY:2026 GMSPB 59th Annual Gem Show
DESCRIPTION:The 59th \nAnnual Gem and Mineral Show\n  \nCOMING\nNOVEMBER 21-22\, 2026\nWeekend before Thanksgiving
URL:https://gmspb.org/event/2025-gmspb-58th-annual-gem-show-2/
LOCATION:South Florida Fairgrounds\, W Palm Beach\, 9067 Southern Blvd\, W Palm Beach\, FL\, 33411\, United States
END:VEVENT
BEGIN:VEVENT
DTSTART;TZID=America/New_York:20261122T090000
DTEND;TZID=America/New_York:20261122T170000
DTSTAMP:20260423T183336
CREATED:20241230T015101Z
LAST-MODIFIED:20260412T214116Z
UID:6190-1795338000-1795366800@gmspb.org
SUMMARY:2026 GMSPB 59th Annual Gem Show
DESCRIPTION:The 59th \nAnnual Gem and Mineral Show\n  \nCOMING\nNOVEMBER  21-22\, 2026\nWeekend before Thanksgiving
URL:https://gmspb.org/event/2025-gmspb-58th-annual-gem-show/
LOCATION:South Florida Fairgrounds\, W Palm Beach\, 9067 Southern Blvd\, W Palm Beach\, FL\, 33411\, United States
END:VEVENT
END:VCALENDAR