BEGIN:VCALENDAR
VERSION:2.0
PRODID:-//Gem and Mineral Society of the Palm Beaches, Inc. - ECPv6.15.16.1//NONSGML v1.0//EN
CALSCALE:GREGORIAN
METHOD:PUBLISH
X-WR-CALNAME:Gem and Mineral Society of the Palm Beaches, Inc.
X-ORIGINAL-URL:https://gmspb.org
X-WR-CALDESC:Events for Gem and Mineral Society of the Palm Beaches, Inc.
REFRESH-INTERVAL;VALUE=DURATION:PT1H
X-Robots-Tag:noindex
X-PUBLISHED-TTL:PT1H
BEGIN:VTIMEZONE
TZID:America/New_York
BEGIN:DAYLIGHT
TZOFFSETFROM:-0500
TZOFFSETTO:-0400
TZNAME:EDT
DTSTART:20230312T070000
END:DAYLIGHT
BEGIN:STANDARD
TZOFFSETFROM:-0400
TZOFFSETTO:-0500
TZNAME:EST
DTSTART:20231105T060000
END:STANDARD
BEGIN:DAYLIGHT
TZOFFSETFROM:-0500
TZOFFSETTO:-0400
TZNAME:EDT
DTSTART:20240310T070000
END:DAYLIGHT
BEGIN:STANDARD
TZOFFSETFROM:-0400
TZOFFSETTO:-0500
TZNAME:EST
DTSTART:20241103T060000
END:STANDARD
BEGIN:DAYLIGHT
TZOFFSETFROM:-0500
TZOFFSETTO:-0400
TZNAME:EDT
DTSTART:20250309T070000
END:DAYLIGHT
BEGIN:STANDARD
TZOFFSETFROM:-0400
TZOFFSETTO:-0500
TZNAME:EST
DTSTART:20251102T060000
END:STANDARD
BEGIN:DAYLIGHT
TZOFFSETFROM:-0500
TZOFFSETTO:-0400
TZNAME:EDT
DTSTART:20260308T070000
END:DAYLIGHT
BEGIN:STANDARD
TZOFFSETFROM:-0400
TZOFFSETTO:-0500
TZNAME:EST
DTSTART:20261101T060000
END:STANDARD
END:VTIMEZONE
BEGIN:VEVENT
DTSTART;TZID=America/New_York:20250428T180000
DTEND;TZID=America/New_York:20250428T210000
DTSTAMP:20260424T112726
CREATED:20250330T182641Z
LAST-MODIFIED:20250330T191506Z
UID:6401-1745863200-1745874000@gmspb.org
SUMMARY:Open Shop - General Work - Clara*
DESCRIPTION:Arlene Lazzaro 516-810-3495 \nSamantha Lazzaro  631-764-6556 \nClara Pflueger 201-566-6492 \nSarah Mayo 307-248-1687 \n3281 Lake Worth Road\, Suite B\, \nLake Worth\, FL 33461 \n  \n*Always Call the shop steward before going to the shop. Open shop sessions may be cancelled or changed due to scheduling conflicts. \n \nUse of the Work Shop and Shop Classes require Club Membership.\nIf not a member\, you may join before the Classes begin.\nJOIN NOW\n 
URL:https://gmspb.org/event/open-shop-general-work-clara-8/
LOCATION:Shop\, 3281 Lake Worth Road\, Lake Worth\, FL\, 33461\, United States
END:VEVENT
BEGIN:VEVENT
DTSTART;TZID=America/New_York:20250428T103000
DTEND;TZID=America/New_York:20250428T173000
DTSTAMP:20260424T112726
CREATED:20250330T181602Z
LAST-MODIFIED:20250330T191442Z
UID:6383-1745836200-1745861400@gmspb.org
SUMMARY:Open Shop - General Work - Samantha*
DESCRIPTION:Arlene Lazzaro 516-810-3495 \nSamantha Lazzaro  631-764-6556 \nClara Pflueger 201-566-6492 \nSarah Mayo 307-248-1687 \n3281 Lake Worth Road\, Suite B\, \nLake Worth\, FL 33461 \n  \n*Always Call the shop steward before going to the shop. Open shop sessions may be cancelled or changed due to scheduling conflicts. \n \nUse of the Work Shop and Shop Classes require Club Membership.\nIf not a member\, you may join before the Classes begin.\nJOIN NOW\n 
URL:https://gmspb.org/event/open-shop-general-work-samantha-6/
LOCATION:Shop\, 3281 Lake Worth Road\, Lake Worth\, FL\, 33461\, United States
ORGANIZER;CN="Samantha Lazzaro":MAILTO:crystalgrace2006@yahoo.com
END:VEVENT
BEGIN:VEVENT
DTSTART;TZID=America/New_York:20250426T123000
DTEND;TZID=America/New_York:20250426T163000
DTSTAMP:20260424T112726
CREATED:20250330T183855Z
LAST-MODIFIED:20250330T192950Z
UID:6415-1745670600-1745685000@gmspb.org
SUMMARY:Beginner Wire Wrapping Workshop
DESCRIPTION:Beginner Wire Wrapping Workshop\nwith Linda Hersh
URL:https://gmspb.org/event/beginner-wire-wrapping-workshop-with-linda-hersh/
LOCATION:Shop\, 3281 Lake Worth Road\, Lake Worth\, FL\, 33461\, United States
END:VEVENT
BEGIN:VEVENT
DTSTART;TZID=America/New_York:20250425T180000
DTEND;TZID=America/New_York:20250425T210000
DTSTAMP:20260424T112726
CREATED:20250330T182951Z
LAST-MODIFIED:20250330T191404Z
UID:6407-1745604000-1745614800@gmspb.org
SUMMARY:Open Shop - General Work - Clara*
DESCRIPTION:Arlene Lazzaro 516-810-3495 \nSamantha Lazzaro  631-764-6556 \nClara Pflueger 201-566-6492 \nSarah Mayo 307-248-1687 \n3281 Lake Worth Road\, Suite B\, \nLake Worth\, FL 33461 \n  \n*Always Call the shop steward before going to the shop. Open shop sessions may be cancelled or changed due to scheduling conflicts. \n \nUse of the Work Shop and Shop Classes require Club Membership.\nIf not a member\, you may join before the Classes begin.\nJOIN NOW\n 
URL:https://gmspb.org/event/open-shop-general-work-clara-11/
LOCATION:Shop\, 3281 Lake Worth Road\, Lake Worth\, FL\, 33461\, United States
END:VEVENT
BEGIN:VEVENT
DTSTART;TZID=America/New_York:20250424T130000
DTEND;TZID=America/New_York:20250424T190000
DTSTAMP:20260424T112726
CREATED:20250330T182051Z
LAST-MODIFIED:20250330T191338Z
UID:6391-1745499600-1745521200@gmspb.org
SUMMARY:Open Shop - General Work - Sarah*
DESCRIPTION:Arlene Lazzaro 516-810-3495 \nSamantha Lazzaro  631-764-6556 \nClara Pflueger 201-566-6492 \nSarah Mayo 307-248-1687 \n3281 Lake Worth Road\, Suite B\, \nLake Worth\, FL 33461 \n  \n*Always Call the shop steward before going to the shop. Open shop sessions may be cancelled or changed due to scheduling conflicts. \n \nUse of the Work Shop and Shop Classes require Club Membership.\nIf not a member\, you may join before the Classes begin.\nJOIN NOW\n 
URL:https://gmspb.org/event/open-shop-general-work-sarah-5/
LOCATION:Shop\, 3281 Lake Worth Road\, Lake Worth\, FL\, 33461\, United States
END:VEVENT
BEGIN:VEVENT
DTSTART;TZID=America/New_York:20250421T190000
DTEND;TZID=America/New_York:20250421T203000
DTSTAMP:20260424T112726
CREATED:20250417T154434Z
LAST-MODIFIED:20250417T154434Z
UID:6552-1745262000-1745267400@gmspb.org
SUMMARY:GMSPB Show Meeting
DESCRIPTION:It’s That Time Again… \nVolunteers Needed… \nJoin Us for our Show Meeting… \nPlease join Clara and Arlene for first Show Meeting\, Live at the work Shop or Zoom.  Link Below!  Lots of work to do and we need you to get involved!  Please join us!\n\nGMSPB President is inviting you to a scheduled Zoom meeting. \nTopic: show meeting\nTime: Apr 21\, 2025 07:00 PM Eastern Time (US and Canada)\nJoin Zoom Meeting\nhttps://us06web.zoom.us/j/83418685388?pwd=iy3wkATUbLmbKbafW5RrcT5T1z8kdc.1 \nMeeting ID: 834 1868 5388\nPasscode: 775558
URL:https://gmspb.org/event/gmspb-show-meeting/
LOCATION:Shop\, 3281 Lake Worth Road\, Lake Worth\, FL\, 33461\, United States
END:VEVENT
BEGIN:VEVENT
DTSTART;TZID=America/New_York:20250421T180000
DTEND;TZID=America/New_York:20250421T210000
DTSTAMP:20260424T112726
CREATED:20250330T182513Z
LAST-MODIFIED:20250330T191319Z
UID:6399-1745258400-1745269200@gmspb.org
SUMMARY:Open Shop - General Work - Clara*
DESCRIPTION:Arlene Lazzaro 516-810-3495 \nSamantha Lazzaro  631-764-6556 \nClara Pflueger 201-566-6492 \nSarah Mayo 307-248-1687 \n3281 Lake Worth Road\, Suite B\, \nLake Worth\, FL 33461 \n  \n*Always Call the shop steward before going to the shop. Open shop sessions may be cancelled or changed due to scheduling conflicts. \n \nUse of the Work Shop and Shop Classes require Club Membership.\nIf not a member\, you may join before the Classes begin.\nJOIN NOW\n 
URL:https://gmspb.org/event/open-shop-general-work-clara-7/
LOCATION:Shop\, 3281 Lake Worth Road\, Lake Worth\, FL\, 33461\, United States
END:VEVENT
BEGIN:VEVENT
DTSTART;TZID=America/New_York:20250421T103000
DTEND;TZID=America/New_York:20250421T173000
DTSTAMP:20260424T112726
CREATED:20250330T181339Z
LAST-MODIFIED:20250330T191200Z
UID:6380-1745231400-1745256600@gmspb.org
SUMMARY:Open Shop - General Work - Samantha*
DESCRIPTION:Arlene Lazzaro 516-810-3495 \nSamantha Lazzaro  631-764-6556 \nClara Pflueger 201-566-6492 \nSarah Mayo 307-248-1687 \n3281 Lake Worth Road\, Suite B\, \nLake Worth\, FL 33461 \n  \n*Always Call the shop steward before going to the shop. Open shop sessions may be cancelled or changed due to scheduling conflicts. \n \nUse of the Work Shop and Shop Classes require Club Membership.\nIf not a member\, you may join before the Classes begin.\nJOIN NOW\n 
URL:https://gmspb.org/event/open-shop-general-work-samantha-5/
LOCATION:Shop\, 3281 Lake Worth Road\, Lake Worth\, FL\, 33461\, United States
ORGANIZER;CN="Samantha Lazzaro":MAILTO:crystalgrace2006@yahoo.com
END:VEVENT
BEGIN:VEVENT
DTSTART;TZID=America/New_York:20250418T180000
DTEND;TZID=America/New_York:20250418T210000
DTSTAMP:20260424T112726
CREATED:20250330T182855Z
LAST-MODIFIED:20250330T191134Z
UID:6405-1744999200-1745010000@gmspb.org
SUMMARY:Open Shop - General Work - Clara*
DESCRIPTION:Arlene Lazzaro 516-810-3495 \nSamantha Lazzaro  631-764-6556 \nClara Pflueger 201-566-6492 \nSarah Mayo 307-248-1687 \n3281 Lake Worth Road\, Suite B\, \nLake Worth\, FL 33461 \n  \n*Always Call the shop steward before going to the shop. Open shop sessions may be cancelled or changed due to scheduling conflicts. \n \nUse of the Work Shop and Shop Classes require Club Membership.\nIf not a member\, you may join before the Classes begin.\nJOIN NOW\n 
URL:https://gmspb.org/event/open-shop-general-work-clara-10/
LOCATION:Shop\, 3281 Lake Worth Road\, Lake Worth\, FL\, 33461\, United States
END:VEVENT
BEGIN:VEVENT
DTSTART;TZID=America/New_York:20250417T190000
DTEND;TZID=America/New_York:20250417T203000
DTSTAMP:20260424T112726
CREATED:20250321T022214Z
LAST-MODIFIED:20250331T171125Z
UID:6316-1744916400-1744921800@gmspb.org
SUMMARY:April 17th Membership Meeting
DESCRIPTION:“Miracle of Nature”\n“Diamonds Help Us Understand”\n“Inner Earth”\n \nPresented by Dr. Suzanne Banas\, NBCT\n    \nDr. Banas is a Nationally Board Certified Teacher and is semi-retired after 40 years as a secondary science teacher.\nShe is an adjunct professor for Miami Dade College where she teaches upper division courses in the Education Bachelors Program. She is a leader in STEM/STEAM integration.\nDr. Banas has earned many honors over the years\, most recently as a finalist for the 2022 National Teacher Hall of Fame. Other honors include 2021 Civil Air Patrol Aerospace Education Teacher of the Year for the South East Region and 2021 AIAA Educator Achievement Award Winner.\nDr. Banas has a deep love of anything artistic as she is from an artistic family. During covid\, she discovered a love of lapidary arts and is passionate about cabbing.  As part of the Miami Mineralogical and Lapidary Guild\, she blends her love of being a Rock Nerd with science to bring presentations and activities to be enjoyed by all.\n**********\nWHERE: inside the STEM Bldg\n4800 Dreher Trail N\n(across from the museum)\n\nROCKHOUND CHALLENGE\nfor APRIL is your best\nCLEAR SPECIMEN\nThe winner will receive\n \nthis amazing Herkimer Diamond!\n___________\n\n\n\nPlease BRING a SNACK to SHARE\nDOOR PRIZES\nSILENT AUCTION\nSHOW ‘N TELL\n\n____________\nMEMBERSHIP RENEWALS*\nare Due Now\nSingle – $30.00\nFamily – $50.00\n——————-\n* If you joined in October – December\, 2024\, the renewal notice does not affect you. Your membership is good thru December\, 2025\n____________
URL:https://gmspb.org/event/april-17th-membership-meeting/
LOCATION:Cox-Multi-Purpose Center\, 4800 Dreher Trail North\, West Palm Beach\, FL\, 33405\, United States
END:VEVENT
BEGIN:VEVENT
DTSTART;TZID=America/New_York:20250417T130000
DTEND;TZID=America/New_York:20250417T180000
DTSTAMP:20260424T112726
CREATED:20250330T181952Z
LAST-MODIFIED:20250330T191058Z
UID:6389-1744894800-1744912800@gmspb.org
SUMMARY:Open Shop - General Work - Sarah*
DESCRIPTION:Arlene Lazzaro 516-810-3495 \nSamantha Lazzaro  631-764-6556 \nClara Pflueger 201-566-6492 \nSarah Mayo 307-248-1687 \n3281 Lake Worth Road\, Suite B\, \nLake Worth\, FL 33461 \n  \n*Always Call the shop steward before going to the shop. Open shop sessions may be cancelled or changed due to scheduling conflicts. \n \nUse of the Work Shop and Shop Classes require Club Membership.\nIf not a member\, you may join before the Classes begin.\nJOIN NOW\n 
URL:https://gmspb.org/event/open-shop-general-work-sarah-4/
LOCATION:Shop\, 3281 Lake Worth Road\, Lake Worth\, FL\, 33461\, United States
END:VEVENT
BEGIN:VEVENT
DTSTART;TZID=America/New_York:20250414T180000
DTEND;TZID=America/New_York:20250414T210000
DTSTAMP:20260424T112726
CREATED:20250330T182417Z
LAST-MODIFIED:20250330T191040Z
UID:6397-1744653600-1744664400@gmspb.org
SUMMARY:Open Shop - General Work - Clara*
DESCRIPTION:Arlene Lazzaro 516-810-3495 \nSamantha Lazzaro  631-764-6556 \nClara Pflueger 201-566-6492 \nSarah Mayo 307-248-1687 \n3281 Lake Worth Road\, Suite B\, \nLake Worth\, FL 33461 \n  \n*Always Call the shop steward before going to the shop. Open shop sessions may be cancelled or changed due to scheduling conflicts. \n \nUse of the Work Shop and Shop Classes require Club Membership.\nIf not a member\, you may join before the Classes begin.\nJOIN NOW\n 
URL:https://gmspb.org/event/open-shop-general-work-clara-6/
LOCATION:Shop\, 3281 Lake Worth Road\, Lake Worth\, FL\, 33461\, United States
END:VEVENT
BEGIN:VEVENT
DTSTART;TZID=America/New_York:20250414T103000
DTEND;TZID=America/New_York:20250414T173000
DTSTAMP:20260424T112726
CREATED:20250330T181252Z
LAST-MODIFIED:20250330T191017Z
UID:6378-1744626600-1744651800@gmspb.org
SUMMARY:Open Shop - General Work - Samantha*
DESCRIPTION:Arlene Lazzaro 516-810-3495 \nSamantha Lazzaro  631-764-6556 \nClara Pflueger 201-566-6492 \nSarah Mayo 307-248-1687 \n3281 Lake Worth Road\, Suite B\, \nLake Worth\, FL 33461 \n  \n*Always Call the shop steward before going to the shop. Open shop sessions may be cancelled or changed due to scheduling conflicts. \n \nUse of the Work Shop and Shop Classes require Club Membership.\nIf not a member\, you may join before the Classes begin.\nJOIN NOW\n 
URL:https://gmspb.org/event/open-shop-general-work-samantha-4/
LOCATION:Shop\, 3281 Lake Worth Road\, Lake Worth\, FL\, 33461\, United States
ORGANIZER;CN="Samantha Lazzaro":MAILTO:crystalgrace2006@yahoo.com
END:VEVENT
BEGIN:VEVENT
DTSTART;TZID=America/New_York:20250411T180000
DTEND;TZID=America/New_York:20250411T210000
DTSTAMP:20260424T112726
CREATED:20250330T182751Z
LAST-MODIFIED:20250330T190956Z
UID:6403-1744394400-1744405200@gmspb.org
SUMMARY:Open Shop - General Work - Clara*
DESCRIPTION:Arlene Lazzaro 516-810-3495 \nSamantha Lazzaro  631-764-6556 \nClara Pflueger 201-566-6492 \nSarah Mayo 307-248-1687 \n3281 Lake Worth Road\, Suite B\, \nLake Worth\, FL 33461 \n  \n*Always Call the shop steward before going to the shop. Open shop sessions may be cancelled or changed due to scheduling conflicts. \n \nUse of the Work Shop and Shop Classes require Club Membership.\nIf not a member\, you may join before the Classes begin.\nJOIN NOW\n 
URL:https://gmspb.org/event/open-shop-general-work-clara-9/
LOCATION:Shop\, 3281 Lake Worth Road\, Lake Worth\, FL\, 33461\, United States
END:VEVENT
BEGIN:VEVENT
DTSTART;TZID=America/New_York:20250410T130000
DTEND;TZID=America/New_York:20250410T190000
DTSTAMP:20260424T112726
CREATED:20250330T181850Z
LAST-MODIFIED:20250330T190931Z
UID:6387-1744290000-1744311600@gmspb.org
SUMMARY:Open Shop - General Work - Sarah*
DESCRIPTION:Arlene Lazzaro 516-810-3495 \nSamantha Lazzaro  631-764-6556 \nClara Pflueger 201-566-6492 \nSarah Mayo 307-248-1687 \n3281 Lake Worth Road\, Suite B\, \nLake Worth\, FL 33461 \n  \n*Always Call the shop steward before going to the shop. Open shop sessions may be cancelled or changed due to scheduling conflicts. \n \nUse of the Work Shop and Shop Classes require Club Membership.\nIf not a member\, you may join before the Classes begin.\nJOIN NOW\n 
URL:https://gmspb.org/event/open-shop-general-work-sarah-3/
LOCATION:Shop\, 3281 Lake Worth Road\, Lake Worth\, FL\, 33461\, United States
ORGANIZER;CN="Samantha Lazzaro":MAILTO:crystalgrace2006@yahoo.com
END:VEVENT
BEGIN:VEVENT
DTSTART;TZID=America/New_York:20250407T180000
DTEND;TZID=America/New_York:20250407T210000
DTSTAMP:20260424T112726
CREATED:20250330T182317Z
LAST-MODIFIED:20250330T190857Z
UID:6395-1744048800-1744059600@gmspb.org
SUMMARY:Open Shop - General Work - Clara*
DESCRIPTION:Arlene Lazzaro 516-810-3495 \nSamantha Lazzaro  631-764-6556 \nClara Pflueger 201-566-6492 \nSarah Mayo 307-248-1687 \n3281 Lake Worth Road\, Suite B\, \nLake Worth\, FL 33461 \n  \n*Always Call the shop steward before going to the shop. Open shop sessions may be cancelled or changed due to scheduling conflicts. \n \nUse of the Work Shop and Shop Classes require Club Membership.\nIf not a member\, you may join before the Classes begin.\nJOIN NOW\n 
URL:https://gmspb.org/event/open-shop-general-work-clara-5/
LOCATION:Shop\, 3281 Lake Worth Road\, Lake Worth\, FL\, 33461\, United States
END:VEVENT
BEGIN:VEVENT
DTSTART;TZID=America/New_York:20250407T103000
DTEND;TZID=America/New_York:20250407T173000
DTSTAMP:20260424T112726
CREATED:20250330T181147Z
LAST-MODIFIED:20250330T190834Z
UID:6376-1744021800-1744047000@gmspb.org
SUMMARY:Open Shop - General Work - Samantha*
DESCRIPTION:Arlene Lazzaro 516-810-3495 \nSamantha Lazzaro  631-764-6556 \nClara Pflueger 201-566-6492 \nSarah Mayo 307-248-1687 \n3281 Lake Worth Road\, Suite B\, \nLake Worth\, FL 33461 \n  \n*Always Call the shop steward before going to the shop. Open shop sessions may be cancelled or changed due to scheduling conflicts. \n \nUse of the Work Shop and Shop Classes require Club Membership.\nIf not a member\, you may join before the Classes begin.\nJOIN NOW\n 
URL:https://gmspb.org/event/open-shop-general-work-samantha-3/
LOCATION:Shop\, 3281 Lake Worth Road\, Lake Worth\, FL\, 33461\, United States
ORGANIZER;CN="Samantha Lazzaro":MAILTO:crystalgrace2006@yahoo.com
END:VEVENT
BEGIN:VEVENT
DTSTART;TZID=America/New_York:20250404T180000
DTEND;TZID=America/New_York:20250404T210000
DTSTAMP:20260424T112726
CREATED:20250321T223255Z
LAST-MODIFIED:20250330T190810Z
UID:6334-1743789600-1743800400@gmspb.org
SUMMARY:Open Shop - General Work - Clara*
DESCRIPTION:Arlene Lazzaro 516-810-3495 \nSamantha Lazzaro  631-764-6556 \nClara Pflueger 201-566-6492 \nSarah Mayo 307-248-1687 \n3281 Lake Worth Road\, Suite B\, \nLake Worth\, FL 33461 \n  \n*Always Call the shop steward before going to the shop. Open shop sessions may be cancelled or changed due to scheduling conflicts. \n \nUse of the Work Shop and Shop Classes require Club Membership.\nIf not a member\, you may join before the Classes begin.\nJOIN NOW\n 
URL:https://gmspb.org/event/open-shop-general-work-clara-3/
LOCATION:Shop\, 3281 Lake Worth Road\, Lake Worth\, FL\, 33461\, United States
END:VEVENT
BEGIN:VEVENT
DTSTART;TZID=America/New_York:20250403T130000
DTEND;TZID=America/New_York:20250403T190000
DTSTAMP:20260424T112726
CREATED:20250321T224719Z
LAST-MODIFIED:20250330T190654Z
UID:6347-1743685200-1743706800@gmspb.org
SUMMARY:Open Shop - General Work - Sarah*
DESCRIPTION:Arlene Lazzaro 516-810-3495 \nSamantha Lazzaro  631-764-6556 \nClara Pflueger 201-566-6492 \nSarah Mayo 307-248-1687 \n3281 Lake Worth Road\, Suite B\, \nLake Worth\, FL 33461 \n  \n*Always Call the shop steward before going to the shop. Open shop sessions may be cancelled or changed due to scheduling conflicts. \n \nUse of the Work Shop and Shop Classes require Club Membership.\nIf not a member\, you may join before the Classes begin.\nJOIN NOW\n 
URL:https://gmspb.org/event/open-shop-general-work-sarah-2/
LOCATION:Shop\, 3281 Lake Worth Road\, Lake Worth\, FL\, 33461\, United States
END:VEVENT
BEGIN:VEVENT
DTSTART;TZID=America/New_York:20250331T180000
DTEND;TZID=America/New_York:20250331T210000
DTSTAMP:20260424T112726
CREATED:20250321T223141Z
LAST-MODIFIED:20250330T190628Z
UID:6332-1743444000-1743454800@gmspb.org
SUMMARY:Open Shop - General Work - Clara*
DESCRIPTION:Arlene Lazzaro 516-810-3495 \nSamantha Lazzaro  631-764-6556 \nClara Pflueger 201-566-6492 \nSarah Mayo 307-248-1687 \n3281 Lake Worth Road\, Suite B\, \nLake Worth\, FL 33461 \n  \n*Always Call the shop steward before going to the shop. Open shop sessions may be cancelled or changed due to scheduling conflicts. \n \nUse of the Work Shop and Shop Classes require Club Membership.\nIf not a member\, you may join before the Classes begin.\nJOIN NOW\n 
URL:https://gmspb.org/event/open-shop-general-work-clara-2/
LOCATION:Shop\, 3281 Lake Worth Road\, Lake Worth\, FL\, 33461\, United States
END:VEVENT
BEGIN:VEVENT
DTSTART;TZID=America/New_York:20250331T103000
DTEND;TZID=America/New_York:20250331T173000
DTSTAMP:20260424T112726
CREATED:20250321T223951Z
LAST-MODIFIED:20250330T190602Z
UID:6340-1743417000-1743442200@gmspb.org
SUMMARY:Open Shop - General Work - Samantha*
DESCRIPTION:Arlene Lazzaro 516-810-3495 \nSamantha Lazzaro  631-764-6556 \nClara Pflueger 201-566-6492 \nSarah Mayo 307-248-1687 \n3281 Lake Worth Road\, Suite B\, \nLake Worth\, FL 33461 \n  \n*Always Call the shop steward before going to the shop. Open shop sessions may be cancelled or changed due to scheduling conflicts. \n \nUse of the Work Shop and Shop Classes require Club Membership.\nIf not a member\, you may join before the Classes begin.\nJOIN NOW\n 
URL:https://gmspb.org/event/open-shop-general-work-samantha-2/
LOCATION:Shop\, 3281 Lake Worth Road\, Lake Worth\, FL\, 33461\, United States
ORGANIZER;CN="Samantha Lazzaro":MAILTO:crystalgrace2006@yahoo.com
END:VEVENT
BEGIN:VEVENT
DTSTART;TZID=America/New_York:20250328T180000
DTEND;TZID=America/New_York:20250328T210000
DTSTAMP:20260424T112726
CREATED:20250321T223021Z
LAST-MODIFIED:20250330T190528Z
UID:6330-1743184800-1743195600@gmspb.org
SUMMARY:Open Shop - General Work - Clara*
DESCRIPTION:Arlene Lazzaro 516-810-3495 \nSamantha Lazzaro  631-764-6556 \nClara Pflueger 201-566-6492 \nSarah Mayo 307-248-1687 \n3281 Lake Worth Road\, Suite B\, \nLake Worth\, FL 33461 \n  \n*Always Call the shop steward before going to the shop. Open shop sessions may be cancelled or changed due to scheduling conflicts. \n \nUse of the Work Shop and Shop Classes require Club Membership.\nIf not a member\, you may join before the Classes begin.\nJOIN NOW\n 
URL:https://gmspb.org/event/open-shop-general-work-clara/
LOCATION:Shop\, 3281 Lake Worth Road\, Lake Worth\, FL\, 33461\, United States
END:VEVENT
BEGIN:VEVENT
DTSTART;TZID=America/New_York:20250327T130000
DTEND;TZID=America/New_York:20250327T190000
DTSTAMP:20260424T112726
CREATED:20250321T224611Z
LAST-MODIFIED:20250330T190457Z
UID:6345-1743080400-1743102000@gmspb.org
SUMMARY:Open Shop - General Work - Sarah*
DESCRIPTION:Arlene Lazzaro 516-810-3495 \nSamantha Lazzaro  631-764-6556 \nClara Pflueger 201-566-6492 \nSarah Mayo 307-248-1687 \n3281 Lake Worth Road\, Suite B\, \nLake Worth\, FL 33461 \n  \n*Always Call the shop steward before going to the shop. Open shop sessions may be cancelled or changed due to scheduling conflicts. \n \nUse of the Work Shop and Shop Classes require Club Membership.\nIf not a member\, you may join before the Classes begin.\nJOIN NOW\n 
URL:https://gmspb.org/event/open-shop-general-work-sarah/
LOCATION:Shop\, 3281 Lake Worth Road\, Lake Worth\, FL\, 33461\, United States
END:VEVENT
BEGIN:VEVENT
DTSTART;TZID=America/New_York:20250324T180000
DTEND;TZID=America/New_York:20250324T210000
DTSTAMP:20260424T112726
CREATED:20250321T221732Z
LAST-MODIFIED:20250330T190424Z
UID:6327-1742839200-1742850000@gmspb.org
SUMMARY:Open Shop - General Work - Clara*
DESCRIPTION:Arlene Lazzaro 516-810-3495 \nSamantha Lazzaro  631-764-6556 \nClara Pflueger 201-566-6492 \nSarah Mayo 307-248-1687 \n3281 Lake Worth Road\, Suite B\, \nLake Worth\, FL 33461 \n  \n*Always Call the shop steward before going to the shop. Open shop sessions may be cancelled or changed due to scheduling conflicts. \n \nUse of the Work Shop and Shop Classes require Club Membership.\nIf not a member\, you may join before the Classes begin.\nJOIN NOW\n 
URL:https://gmspb.org/event/open-shop-general-work-clara-4/
LOCATION:Shop\, 3281 Lake Worth Road\, Lake Worth\, FL\, 33461\, United States
END:VEVENT
BEGIN:VEVENT
DTSTART;TZID=America/New_York:20250324T103000
DTEND;TZID=America/New_York:20250324T173000
DTSTAMP:20260424T112726
CREATED:20250321T223742Z
LAST-MODIFIED:20250330T190348Z
UID:6338-1742812200-1742837400@gmspb.org
SUMMARY:Open Shop - General Work - Samantha*
DESCRIPTION:Arlene Lazzaro 516-810-3495 \nSamantha Lazzaro  631-764-6556 \nClara Pflueger 201-566-6492 \nSarah Mayo 307-248-1687 \n3281 Lake Worth Road\, Suite B\, \nLake Worth\, FL 33461 \n  \n*Always Call the shop steward before going to the shop. Open shop sessions may be cancelled or changed due to scheduling conflicts. \n \nUse of the Work Shop and Shop Classes require Club Membership.\nIf not a member\, you may join before the Classes begin.\nJOIN NOW\n 
URL:https://gmspb.org/event/open-shop-general-work-samantha/
LOCATION:Shop\, 3281 Lake Worth Road\, Lake Worth\, FL\, 33461\, United States
ORGANIZER;CN="Samantha Lazzaro":MAILTO:crystalgrace2006@yahoo.com
END:VEVENT
BEGIN:VEVENT
DTSTART;VALUE=DATE:20250113
DTEND;VALUE=DATE:20250114
DTSTAMP:20260424T112726
CREATED:20240923T140029Z
LAST-MODIFIED:20241105T155417Z
UID:5763-1736726400-1736812799@gmspb.org
SUMMARY:RAIS'N CANE FIELD TRIP
DESCRIPTION:
URL:https://gmspb.org/event/raisn-cane-field-trip/
LOCATION:FL
END:VEVENT
BEGIN:VEVENT
DTSTART;TZID=America/New_York:20250108T190000
DTEND;TZID=America/New_York:20250108T200000
DTSTAMP:20260424T112726
CREATED:20240618T035528Z
LAST-MODIFIED:20241206T163608Z
UID:5649-1736362800-1736366400@gmspb.org
SUMMARY:GMSPB Monthly Board Meeting
DESCRIPTION:GMSPB Monthly Board Meeting \nHeld by Zoom Mtg Online \nContact Arlene Lazzaro for info at  president@gmspb.org
URL:https://gmspb.org/event/gmspb-monthly-board-meeting-2/
LOCATION:ZOOM
END:VEVENT
BEGIN:VEVENT
DTSTART;TZID=America/New_York:20241214T180000
DTEND;TZID=America/New_York:20241214T210000
DTSTAMP:20260424T112726
CREATED:20240426T172546Z
LAST-MODIFIED:20241206T160505Z
UID:5515-1734199200-1734210000@gmspb.org
SUMMARY:Annual GMSPB Holiday Banquet and Installation Dinner
DESCRIPTION:GMSPB Annual Holiday Banquet\nStem Building\, 4800 Dreher Trail N\nWest Palm Beach\, FL\n\n   \n\nINSTALLATION OF INCOMING\n\nBOARD MEMBERS \nPlease contact Arlene Lazzaro at 516-810-3495 \nfor more information if you would like to attend. \n  \n     \n    
URL:https://gmspb.org/event/annual-gmspb-holiday-party/
LOCATION:Cox-Multi-Purpose Center\, 4800 Dreher Trail North\, West Palm Beach\, FL\, 33405\, United States
END:VEVENT
BEGIN:VEVENT
DTSTART;TZID=America/New_York:20241021T190000
DTEND;TZID=America/New_York:20241021T210000
DTSTAMP:20260424T112726
CREATED:20240407T034250Z
LAST-MODIFIED:20241015T162113Z
UID:5468-1729537200-1729544400@gmspb.org
SUMMARY:Gem Show Meeting
DESCRIPTION:Interested in helping out with our Annual Gem Show in November? \n\nSAVE THE DATE! \nNEXT SHOW MEETING\nLive at the shop • and via ZOOM\n(let Arlene know if you would like the link)\nContact Arlene Lazzaro for info: 516-810-3495\nMonday\, OCTOBER 21 • 7 PM\n\n\nZoom Link to Follow.\n\nThank you\,\nArlene Lazzaro and Clara Pflueger\nCo-show chairs
URL:https://gmspb.org/event/gem-show-meeting/
LOCATION:Shop\, 3281 Lake Worth Road\, Lake Worth\, FL\, 33461\, United States
END:VEVENT
BEGIN:VEVENT
DTSTART;TZID=America/New_York:20241012T100000
DTEND;TZID=America/New_York:20241012T160000
DTSTAMP:20260424T112726
CREATED:20240814T012311Z
LAST-MODIFIED:20241006T153619Z
UID:5697-1728727200-1728748800@gmspb.org
SUMMARY:Annual Members Only Field Trip GMSPB CLAM BREAK
DESCRIPTION:Hello Members! \nDon’t forget 🙂\nOur Annual Member Field Trip\,\nthe GMSPB Clam Break\nis coming up soon. \n********************************* \nCome to the Sept 19 meeting – at COX Science Center\nthis month – to learn more and see samples of what\nyou might find!  \n********************************* \nDEADLINE to sign up\nis Sunday October 6 \n********************************* \nProper shoes required. Closed toe. No sandals.\nNo smoking in the work area. \nEye protection needed. \nHere are more details. \nAnnual Gem Club MEMBER\nField Trip \nSaturday\, September 28\n10 AM – 4 PM \n  \nCost \n$20 per adult participant\n$10 per child\nLocation Melbourne\, FL     \n  \nMEMBER attendance is limited to 20 people – first come\, first served.  \n\nPlease email Anthony Leong at firstvice@gmspb.org and include the following: \nEach Member Name/Phone number (if under 18\, please include the age)/preferred email address. You can mail a check or use a Cash App like Zelle to get me payment.  Once your payment is received – your spot is secured.  I will email you the event waivers. \n  \nEvent: There is no digging involved.  You will be breaking coquina rock material down to expose calcified crystal specimens in clam shells\, rock and who knows what else. \nMaterials/Tools to bring: small chipping tools\, mid to large sledge hammers.  Buckets and EYE Protection.  Small tools to trim down the coquina to the crystal portion. Flat and pointed Chisels. Wedges. \n  \n*** All rock material you break down must be scooped up and brought to the front of the site and dumped into a pile.  We will try to have a large hand truck or wagon/cart to help with this portion. If someone wants to bring one\, let me know.  Otherwise\, you will have to just carry it in your bucket to the pile *** \n  \nThank you Club Officers/Committee heads/Shop Stewards/Show Chairpersons/Mine Managers – for your time and service.  Your spot is reserved and & entry fee is covered.  Thank you again for your service.  Still contact me so I can get you on the list.  – Anthony \n  \nField Trip is Open to Members Only
URL:https://gmspb.org/event/members-only-field-trip/
LOCATION:FL
END:VEVENT
END:VCALENDAR